BEGIN:VCALENDAR
VERSION:2.0
PRODID:-//STRAWANZERIN - ECPv4.9.5//NONSGML v1.0//EN
CALSCALE:GREGORIAN
METHOD:PUBLISH
X-WR-CALNAME:STRAWANZERIN
X-ORIGINAL-URL:https://www.strawanzerin.at
X-WR-CALDESC:Veranstaltungen im STRAWANZERIN
BEGIN:VTIMEZONE
TZID:"Europe/Vienna"
BEGIN:DAYLIGHT
TZOFFSETFROM:+0100
TZOFFSETTO:+0200
TZNAME:CEST
DTSTART:20250330T010000
END:DAYLIGHT
BEGIN:STANDARD
TZOFFSETFROM:+0200
TZOFFSETTO:+0100
TZNAME:CET
DTSTART:20251026T010000
END:STANDARD
END:VTIMEZONE
BEGIN:VEVENT
DTSTART;TZID="Europe/Vienna":20251009T193000
DTEND;TZID="Europe/Vienna":20251009T213000
DTSTAMP:20260422T160444
CREATED:20250911T124526Z
LAST-MODIFIED:20250911T124526Z
UID:109475-1760038200-1760045400@www.strawanzerin.at
SUMMARY:Classic meets Jazz mit Robert WERNER & Band
DESCRIPTION:Der gefeierte Klaviervirtuose\, Komponist\, Tenor und Mitglied der Wiener Staatsoper Robert WERNER musiziert am Donnerstag\, dem 9. Oktober 2025 um 19:30 Uhr gemeinsam mit seiner Band im festlichen Congress Center Casino Baden eine Melange von Melodien aus der Welt der Klassik und des Jazz. Hinzu kommen berührende Kompositionen aus eigener Feder des aus Wien stammenden und in Baden lebenden Künstlers.  \nBesetzung:\nRobert WERNER am Bösendorfer Konzertflügel\nVladimir KOSTADINOVIC am Schlagzeug\nDusan SIMOVIC am Bass \nKarten:\nWeb: https://webshop.jetticket.net/casinobaden/SelectSeats?ret=2&e=2638\nE-Mail: tickets.ccb@casinos.at\nTel.: +43 2252 444 96 444 \nBild: Der Wiener Sänger\, Klaviervirtuose und Komponist Robert WERNER gastiert in Baden\, Foto/© Christian Jeschko \n
URL:https://www.strawanzerin.at/termin/classic-meets-jazz-mit-robert-werner-band/
LOCATION:Congress Center Casino Baden\, Kaiser Franz-Ring 1\, Baden\, Niederösterreich\, 2500\, Österreich
CATEGORIES:ab 7,Musik,Niederösterreich
ATTACH;FMTTYPE=image/jpeg:https://www.strawanzerin.at/wp-content/uploads/2025/09/02-Foto-Robert-WERNER-©-Christian-Jeschko-Kopie.jpeg
END:VEVENT
END:VCALENDAR