BEGIN:VCALENDAR
VERSION:2.0
PRODID:-//STRAWANZERIN - ECPv4.9.5//NONSGML v1.0//EN
CALSCALE:GREGORIAN
METHOD:PUBLISH
X-WR-CALNAME:STRAWANZERIN
X-ORIGINAL-URL:https://www.strawanzerin.at
X-WR-CALDESC:Veranstaltungen im STRAWANZERIN
BEGIN:VTIMEZONE
TZID:"Europe/Vienna"
BEGIN:DAYLIGHT
TZOFFSETFROM:+0100
TZOFFSETTO:+0200
TZNAME:CEST
DTSTART:20260329T010000
END:DAYLIGHT
BEGIN:STANDARD
TZOFFSETFROM:+0200
TZOFFSETTO:+0100
TZNAME:CET
DTSTART:20261025T010000
END:STANDARD
END:VTIMEZONE
BEGIN:VEVENT
DTSTART;TZID="Europe/Vienna":20260120T150000
DTEND;TZID="Europe/Vienna":20260120T180000
DTSTAMP:20260423T213239
CREATED:20251017T080644Z
LAST-MODIFIED:20251017T080644Z
UID:110307-1768921200-1768932000@www.strawanzerin.at
SUMMARY:ClemK's Kunstrausch bereichert Kunstszene im 18. und 19. Bezirk
DESCRIPTION:Der gebürtige Münchner\, ehemalige Film- und Fernsehregisseur und heute international agierende Aktionskünstler Clemens Keiffenheim alias ClemK hat Wien zu seiner zweiten Heimatstadt erkoren. In Döbling schuf er in den Räumen des Weinguts Hengl-Haselbrunner die Galerie Kunstrausch als kostenlose Plattform für Mitglieder der Berufsvereinigung der bildenden Künstler Österreichs. Für nächstes Jahr sind bereits 17 Vernissagen geplant. Hinzu kam vor Kurzem auch die Gründung der Künstlergruppe ClemK & Friends\, die quer durch alle Generationen verschiedenste Kunststile unter einen Hut bringt.  \nAm 20. Jänner 2026 findet die erste Gruppenausstellung dieser Künstlervereinigung statt\, und zwar im Rahmen des ebenfalls breit aufgestellten Vienna Art Market (18\, Währinger Straße 100). Neben einer Live-Aktion von Clemens Keiffenheim zeigen auch die Popartkünstlerin Miko Wonderland und der poetische\, multikulturelle Mixed-Media-Künstler Vijit Hooda\, was eine bunte\, künstlerische Vielfalt ausmacht. Zusammen sind sie das Gründungstrio von ClemK & Friends. Die Moderation im Jänner übernimmt der renommierte Kurator Boris Manner (Universität für angewandte Kunst Wien\, langjähriger Assistent von Anselm Kiefer). \nBild: Der Künstler ClemK mit Popartkünstlerin Miko Wonderland und Mixed-Media-Künstler Vijit Hooda\, Foto/© Philipp Enders \n
URL:https://www.strawanzerin.at/termin/clemks-kunstrausch-bereichert-kunstszene-im-18-und-19-bezirk/
LOCATION:vienna art market (v.a.m.) – 1180\, Währinger Str. 100\, Währinger Str. 100\, Wien\, Wien\, 1180\, Österreich
CATEGORIES:Ausstellung,Gratis,Kunst/Kultur,Wien
ATTACH;FMTTYPE=image/jpeg:https://www.strawanzerin.at/wp-content/uploads/2025/10/ClemK_Trio.jpg
END:VEVENT
END:VCALENDAR