BEGIN:VCALENDAR
VERSION:2.0
PRODID:-//STRAWANZERIN - ECPv4.9.5//NONSGML v1.0//EN
CALSCALE:GREGORIAN
METHOD:PUBLISH
X-WR-CALNAME:STRAWANZERIN
X-ORIGINAL-URL:https://www.strawanzerin.at
X-WR-CALDESC:Veranstaltungen im STRAWANZERIN
BEGIN:VTIMEZONE
TZID:"Europe/Vienna"
BEGIN:DAYLIGHT
TZOFFSETFROM:+0100
TZOFFSETTO:+0200
TZNAME:CEST
DTSTART:20260329T010000
END:DAYLIGHT
BEGIN:STANDARD
TZOFFSETFROM:+0200
TZOFFSETTO:+0100
TZNAME:CET
DTSTART:20261025T010000
END:STANDARD
END:VTIMEZONE
BEGIN:VEVENT
DTSTART;TZID="Europe/Vienna":20260216T190000
DTEND;TZID="Europe/Vienna":20260308T220000
DTSTAMP:20260421T135713
CREATED:20260108T092423Z
LAST-MODIFIED:20260108T092423Z
UID:111729-1771268400-1773007200@www.strawanzerin.at
SUMMARY:Cleo Ruisz – „Guck mal“. Schräge Tierporträts.
DESCRIPTION:Jour fixe am 16. im 16. Cleo Ruisz – „Guck mal“. Schräge Tierporträts.\nEva Salvarani – „Bizarres und Skurriles“. Schräge Lesung. \n
URL:https://www.strawanzerin.at/termin/cleo-ruisz-guck-mal-schraege-tierportraets/
LOCATION:Cafe Club International C.I.\, Payergasse 14\, Wien\, Wien\, 1160\, Österreich
CATEGORIES:Ausstellung,Deutsch,Gratis,Kunst/Kultur,Literatur,Wien
ATTACH;FMTTYPE=image/jpeg:https://www.strawanzerin.at/wp-content/uploads/2026/01/2026_02_16-Jour-fixe-Cleo-Ruisz.jpg
ORGANIZER;CN="Ursula%20Pfeiffer%20verein%20%3A%3Akunst-projekte%3A%3A%20der%20%5Bgalerie%5Dstudio38%20zvr%20123612155":MAILTO:office@galeriestudio38.at
END:VEVENT
END:VCALENDAR