BEGIN:VCALENDAR
VERSION:2.0
PRODID:-//STRAWANZERIN - ECPv4.9.5//NONSGML v1.0//EN
CALSCALE:GREGORIAN
METHOD:PUBLISH
X-WR-CALNAME:STRAWANZERIN
X-ORIGINAL-URL:https://www.strawanzerin.at
X-WR-CALDESC:Veranstaltungen im STRAWANZERIN
BEGIN:VTIMEZONE
TZID:"Europe/Vienna"
BEGIN:DAYLIGHT
TZOFFSETFROM:+0100
TZOFFSETTO:+0200
TZNAME:CEST
DTSTART:20250330T010000
END:DAYLIGHT
BEGIN:STANDARD
TZOFFSETFROM:+0200
TZOFFSETTO:+0100
TZNAME:CET
DTSTART:20251026T010000
END:STANDARD
END:VTIMEZONE
BEGIN:VEVENT
DTSTART;TZID="Europe/Vienna":20251202T190000
DTEND;TZID="Europe/Vienna":20251202T210000
DTSTAMP:20260421T000034
CREATED:20250814T132417Z
LAST-MODIFIED:20250814T132417Z
UID:108790-1764702000-1764709200@www.strawanzerin.at
SUMMARY:CLOWN FOR ALL – Clowntheaterkurs Winter 25 25
DESCRIPTION:Clowntheater-Kurs Winter 25:\nEntdecke den Clown in Dir\nJeweils 19-21:00\nDi\, 02.12.2025\nDi\, 16.12.2025\nDi\, 13.01.2026\nDi\, 20.01.2026\nDi\, 27.01.2026\nKosten: 81€/Person\nAnmeldung unter:\nhttps://Anmeldung unter:www.vhs.at/de/k/286724141 \n
URL:https://www.strawanzerin.at/termin/clown-for-all-clowntheaterkurs-winter-25-25/
CATEGORIES:Workshop
ATTACH;FMTTYPE=image/jpeg:https://www.strawanzerin.at/wp-content/uploads/2025/08/Screenshot_20250731_200031_Instagram-3.jpg
END:VEVENT
END:VCALENDAR