BEGIN:VCALENDAR
VERSION:2.0
PRODID:-//STRAWANZERIN - ECPv4.9.5//NONSGML v1.0//EN
CALSCALE:GREGORIAN
METHOD:PUBLISH
X-WR-CALNAME:STRAWANZERIN
X-ORIGINAL-URL:https://www.strawanzerin.at
X-WR-CALDESC:Veranstaltungen im STRAWANZERIN
BEGIN:VTIMEZONE
TZID:"Europe/Helsinki"
BEGIN:DAYLIGHT
TZOFFSETFROM:+0200
TZOFFSETTO:+0300
TZNAME:EEST
DTSTART:20150329T010000
END:DAYLIGHT
BEGIN:STANDARD
TZOFFSETFROM:+0300
TZOFFSETTO:+0200
TZNAME:EET
DTSTART:20151025T010000
END:STANDARD
END:VTIMEZONE
BEGIN:VEVENT
DTSTART;TZID="Europe/Helsinki":20150411T110000
DTEND;TZID="Europe/Helsinki":20150412T160000
DTSTAMP:20260419T200121
CREATED:20150318T114112Z
LAST-MODIFIED:20150319T110517Z
UID:12575-1428750000-1428854400@www.strawanzerin.at
SUMMARY:Clown – Step by Step  Clown-Kurs Einführung
DESCRIPTION:Der Clown ist Sinnbild und Verkörperung einer ursprünglichen Lebendigkeit\, die nicht Halt macht vor dem Unmöglichen. Eine unerschöpfliche Lust am Leben lässt ihn mutig und liebevoll jede Situation in Angriff nehmen\, die sich ihm stellt. Scheitern ist ein Vergnügen und immer wieder das Unerwartete tun\, will gelernt sein. Die Teilnehmer erfahren Schritt für Schritt die kreative Weisheit der Figur Clown: \neine Weisheit\, die aus unmittelbarem und spontanem Handeln entsteht\neine Weisheit\, die Mut macht\, mit den eigenen Fehlern und Schwächen zu spielen\neine Weisheit\, die entsteht\, wenn wir über uns selbst lachen können\nDieses Seminar für Anfänger und Einsteiger gibt einen Einblick in das – am Tamala Center seit fast 30 Jahren gelehrte – Clown Acting. Clown Acting ist ein Training\, das das Basiswissen Clown auf systematische und einfache Weise aufbaut.\nDieses Seminar gilt auch als Casting Seminar für die Ausbildung zum Gesundheit!Clown. \n
URL:https://www.strawanzerin.at/termin/clown-step-by-step-clown-kurs-einfuehrung/
LOCATION:Institut Dr. Schmida\, Lehárgasse 1/2 A\, 1060 Wien\, Wien\, 1060\, Österreich
CATEGORIES:Bildung,Deutsch,Eintrittspreis,Wien,Workshop
ATTACH;FMTTYPE=:
ORGANIZER;CN="Tamala%20Clown%20Akademie":MAILTO:Info@tamala-center.de
GEO:48.2006297;16.3643257
X-APPLE-STRUCTURED-LOCATION;VALUE=URI;X-ADDRESS=Institut Dr. Schmida Lehárgasse 1/2 A 1060 Wien Wien 1060 Österreich;X-APPLE-RADIUS=500;X-TITLE=Lehárgasse 1/2 A:geo:16.3643257,48.2006297
END:VEVENT
END:VCALENDAR