BEGIN:VCALENDAR
VERSION:2.0
PRODID:-//STRAWANZERIN - ECPv4.9.5//NONSGML v1.0//EN
CALSCALE:GREGORIAN
METHOD:PUBLISH
X-WR-CALNAME:STRAWANZERIN
X-ORIGINAL-URL:https://www.strawanzerin.at
X-WR-CALDESC:Veranstaltungen im STRAWANZERIN
BEGIN:VTIMEZONE
TZID:"Europe/Vienna"
BEGIN:DAYLIGHT
TZOFFSETFROM:+0100
TZOFFSETTO:+0200
TZNAME:CEST
DTSTART:20240331T010000
END:DAYLIGHT
BEGIN:STANDARD
TZOFFSETFROM:+0200
TZOFFSETTO:+0100
TZNAME:CET
DTSTART:20241027T010000
END:STANDARD
END:VTIMEZONE
BEGIN:VEVENT
DTSTART;TZID="Europe/Vienna":20241204T180000
DTEND;TZID="Europe/Vienna":20241204T200000
DTSTAMP:20260421T042343
CREATED:20241122T122050Z
LAST-MODIFIED:20241122T122050Z
UID:104794-1733335200-1733342400@www.strawanzerin.at
SUMMARY:Club Architektur #14
DESCRIPTION:Talk Show\nQuo vadis\, Zweimillionenstadt? Wie wollen wir leben und wer wollen wir sein?\nMi 04.12.2024\, 18:00-20:00 \nWien hat seit vorigem Jahr (wieder) zwei Millionen Einwohner*innen. Aber was bedeutet es\, Weltstadt zu sein? \nDie Bundeshauptstadt gehört zu den am schnellsten wachsenden Städten der Europäischen Union und ist nun die zweitgrößte Stadt im deutschsprachigen Raum. \nWelche (durchaus unterschiedlichen) Vorstellungen von Großstadt und Großstadt-Gesellschaft sind damit verbunden? Wo ist die Stadt wirklich großstädtisch\, und kann die Antwort auf diese Frage wirklich immer nur „in den Gründerzeitvierteln!“ sein? Wo ist Wien provinziell? Diese Fragen betreffen nicht nur die gebaute Umwelt und den öffentlichen Raum\, sondern auch die Stadtgesellschaft. Wie verändert der Zuwachs die Stadt\, wo ist er spürbar\, und welche Rolle spielen dabei Migrationsbewegungen? Kurz gesagt: Welche Stadtgesellschaft wollen wir sein? \nMit:\nWilfried Kuehn\, Professor für Raumgestaltung und Entwerfen\, TU Wien\nStefanie Lamp\, Bezirksvorsteherin 16. Bezirk\nIvana Pilic\, Kuratorin D—Arts Projektbüro für Diversität\nKay Voges\, Intendant Volkstheater Wien (angefragt) \nModeration: Maik Novotny\, Architekturjournalist \nDank an: Firma Kohlmaier\, Wien \nArchitekturzentrum Wien – Podium\nMuseumsplatz 1 1070 Wien \nEintritt frei \nRückfragen\nLene Benz\n+43-1-522 31 15-17\nbenz@azw.at \nFoto:\nClub Architektur\n© Grafik: grafisches Büro \n
URL:https://www.strawanzerin.at/termin/club-architektur-14/
LOCATION:Architekturzentrum Wien\, Museumsplatz 1\, 1070 Wien\, 1070\, Österreich
ATTACH;FMTTYPE=image/jpeg:https://www.strawanzerin.at/wp-content/uploads/2024/11/Club-Architektur-Sep-Dez-2024.jpg
GEO:48.2026499;16.3591421
X-APPLE-STRUCTURED-LOCATION;VALUE=URI;X-ADDRESS=Architekturzentrum Wien Museumsplatz 1 1070 Wien 1070 Österreich;X-APPLE-RADIUS=500;X-TITLE=Museumsplatz 1:geo:16.3591421,48.2026499
END:VEVENT
END:VCALENDAR