BEGIN:VCALENDAR
VERSION:2.0
PRODID:-//STRAWANZERIN - ECPv4.9.5//NONSGML v1.0//EN
CALSCALE:GREGORIAN
METHOD:PUBLISH
X-WR-CALNAME:STRAWANZERIN
X-ORIGINAL-URL:https://www.strawanzerin.at
X-WR-CALDESC:Veranstaltungen im STRAWANZERIN
BEGIN:VTIMEZONE
TZID:"Europe/Vienna"
BEGIN:DAYLIGHT
TZOFFSETFROM:+0100
TZOFFSETTO:+0200
TZNAME:CEST
DTSTART:20230326T010000
END:DAYLIGHT
BEGIN:STANDARD
TZOFFSETFROM:+0200
TZOFFSETTO:+0100
TZNAME:CET
DTSTART:20231029T010000
END:STANDARD
END:VTIMEZONE
BEGIN:VEVENT
DTSTART;TZID="Europe/Vienna":20230627T183000
DTEND;TZID="Europe/Vienna":20230629T213000
DTSTAMP:20260421T152811
CREATED:20230511T135332Z
LAST-MODIFIED:20230521T180539Z
UID:91449-1687890600-1688074200@www.strawanzerin.at
SUMMARY:Comics zeichnen und Charakter-Design – Einsteiger*innen
DESCRIPTION:Wie kann man eine Superheldengeschichte illustrieren? Lernen Sie in diesem Kurs Ihrer eigenen Comic-/Superheldenfigur Charakter einzuhauchen und sie zum Leben zu erwecken\, indem Sie eine eigene Geschichte kreieren und illustrieren! \n
URL:https://www.strawanzerin.at/termin/comics-zeichnen-und-charakter-design-einsteigerinnen/
LOCATION:VHS Wiener Urania\, Uraniastraße 1\, Wien\, Wien\, 1010\, Österreich
ATTACH;FMTTYPE=image/jpeg:https://www.strawanzerin.at/wp-content/uploads/2023/05/20060719_Wiener-Urania-c-VHS-Wiener-Urania_KLEINER-3.jpg
ORGANIZER;CN="VHS%20Wiener%20Urania":MAILTO:urania@vhs.at
END:VEVENT
END:VCALENDAR