BEGIN:VCALENDAR
VERSION:2.0
PRODID:-//STRAWANZERIN - ECPv4.9.5//NONSGML v1.0//EN
CALSCALE:GREGORIAN
METHOD:PUBLISH
X-WR-CALNAME:STRAWANZERIN
X-ORIGINAL-URL:https://www.strawanzerin.at
X-WR-CALDESC:Veranstaltungen im STRAWANZERIN
BEGIN:VTIMEZONE
TZID:"Europe/Vienna"
BEGIN:DAYLIGHT
TZOFFSETFROM:+0100
TZOFFSETTO:+0200
TZNAME:CEST
DTSTART:20250330T010000
END:DAYLIGHT
BEGIN:STANDARD
TZOFFSETFROM:+0200
TZOFFSETTO:+0100
TZNAME:CET
DTSTART:20251026T010000
END:STANDARD
END:VTIMEZONE
BEGIN:VEVENT
DTSTART;TZID="Europe/Vienna":20251025T160000
DTEND;TZID="Europe/Vienna":20251025T180000
DTSTAMP:20260421T085920
CREATED:20251017T080328Z
LAST-MODIFIED:20251017T080328Z
UID:110360-1761408000-1761415200@www.strawanzerin.at
SUMMARY:COMMON GROUND*S  - eine gemeinsame Praxis
DESCRIPTION:Seit drei Jahren entsteht ein großer Teppich in der gemeinsamen Arbeit vieler Menschen. Jede Person hinterlässt einen geflochtenen Zopf\, der Teil des Teppichs wird – und damit eine Spur darin. Im Rahmen der miteinander verbrachten Zeit öffnet sich Raum für Austausch und Gespräche.\nAussortiertes und Weggeworfenes verwandelt sich in ein Objekt\, das allen Platz bietet – um in Dialog zu treten\, zuzuhören und voneinander zu lernen. Die handwerkliche Technik ist einfach und kann sofort von allen angewendet werden. \nAm 25. Oktober sind Menschen vom Hausprojekt Planet 10 und die Architektin\, Stadtplanerin und Aktivistin Gabu Heindl zu Gast um über ihre Perspektiven auf einen common ground zu sprechen.  \n
URL:https://www.strawanzerin.at/termin/common-grounds-eine-gemeinsame-praxis/
LOCATION:Kulturhaus Brotfabrik\, Absberggasse 27/3\, Erdgeschoß\, Wien\, 1100\, Österreich
CATEGORIES:Gratis,Vortrag/Symposium,Workshop
ATTACH;FMTTYPE=image/jpeg:https://www.strawanzerin.at/wp-content/uploads/2025/10/Igor_Ripak_RIP_9832b_lowres.jpg
ORGANIZER;CN="Kunstverein%20campNU":MAILTO:buildacommonground@posteo.com
END:VEVENT
END:VCALENDAR