BEGIN:VCALENDAR
VERSION:2.0
PRODID:-//STRAWANZERIN - ECPv4.9.5//NONSGML v1.0//EN
CALSCALE:GREGORIAN
METHOD:PUBLISH
X-WR-CALNAME:STRAWANZERIN
X-ORIGINAL-URL:https://www.strawanzerin.at
X-WR-CALDESC:Veranstaltungen im STRAWANZERIN
BEGIN:VTIMEZONE
TZID:"Europe/Vienna"
BEGIN:DAYLIGHT
TZOFFSETFROM:+0100
TZOFFSETTO:+0200
TZNAME:CEST
DTSTART:20260329T010000
END:DAYLIGHT
BEGIN:STANDARD
TZOFFSETFROM:+0200
TZOFFSETTO:+0100
TZNAME:CET
DTSTART:20261025T010000
END:STANDARD
END:VTIMEZONE
BEGIN:VEVENT
DTSTART;TZID="Europe/Vienna":20260226T183000
DTEND;TZID="Europe/Vienna":20260226T193000
DTSTAMP:20260421T152542
CREATED:20260128T141821Z
LAST-MODIFIED:20260128T141821Z
UID:112171-1772130600-1772134200@www.strawanzerin.at
SUMMARY:Conversation with the Sun
DESCRIPTION:Zarina Mingazovas KABINETTheft „Conversation with the Sun“ erzählt eine mythenhafte Kurzgeschichte über ein Mädchen\, das ohne Erinnerung an ihre Vergangenheit in einer Wüste erwacht. Die Geschichte behandelt Themen wie Verlust\, Selbstfindung und den Versuch\, Identität und Sprache wiederzugewinnen. Mit 13 Jahren wurde Mingazova aus Kasachstan entwurzelt und zog nach Norwegen\, von wo sie mit 31 Jahren aufgrund der strengen norwegischen Einwanderungsgesetze zurück in ihr Geburtsland geschickt wurde. Die Rückkehr nach Kasachstan fühlte sich für Mingazova wie eine Wiedergeburt an – sie lernte die Welt mit neuen Augen zu betrachten\, sich anzupassen und ein neues Leben aufzubauen. \nZarina Mingazovas (*1992) Arbeit als Künstlerin und Herausgeberin ist an der Schnittstelle von Storytelling und Illustration angesiedelt. Nach ihrem Abschluss an der Oslo National Academy of the Arts im Jahr 2022 widmet sich Zarina ihrer unabhängigen Publikation Træsh. Sie hat an zahlreichen Ausstellungen teilgenommen und einen Pop-up-Comic-Store in Kasachstan gegründet.  \n
URL:https://www.strawanzerin.at/termin/conversation-with-the-sun/
LOCATION:Museumsquartier MQ\, Museumsplatz 1\, Wien\, Wien\, 1070\, Österreich
CATEGORIES:Ausstellung,Kunst/Kultur
ATTACH;FMTTYPE=image/jpeg:https://www.strawanzerin.at/wp-content/uploads/2026/01/Conversation-with-the-sun-cover-WEB-1800px.jpg
ORGANIZER;CN="KABINETT%20comic%20passage":MAILTO:post@kabinett.at
GEO:48.2034986;16.3591175
X-APPLE-STRUCTURED-LOCATION;VALUE=URI;X-ADDRESS=Museumsquartier MQ Museumsplatz 1 Wien Wien 1070 Österreich;X-APPLE-RADIUS=500;X-TITLE=Museumsplatz 1:geo:16.3591175,48.2034986
END:VEVENT
END:VCALENDAR