BEGIN:VCALENDAR
VERSION:2.0
PRODID:-//STRAWANZERIN - ECPv4.9.5//NONSGML v1.0//EN
CALSCALE:GREGORIAN
METHOD:PUBLISH
X-WR-CALNAME:STRAWANZERIN
X-ORIGINAL-URL:https://www.strawanzerin.at
X-WR-CALDESC:Veranstaltungen im STRAWANZERIN
BEGIN:VTIMEZONE
TZID:"Europe/Vienna"
BEGIN:DAYLIGHT
TZOFFSETFROM:+0100
TZOFFSETTO:+0200
TZNAME:CEST
DTSTART:20220327T010000
END:DAYLIGHT
BEGIN:STANDARD
TZOFFSETFROM:+0200
TZOFFSETTO:+0100
TZNAME:CET
DTSTART:20221030T010000
END:STANDARD
END:VTIMEZONE
BEGIN:VEVENT
DTSTART;TZID="Europe/Vienna":20220304T193000
DTEND;TZID="Europe/Vienna":20220304T220000
DTSTAMP:20260422T072954
CREATED:20220216T094351Z
LAST-MODIFIED:20220302T115915Z
UID:82833-1646422200-1646431200@www.strawanzerin.at
SUMMARY:Crossing Strings @ Bühne Mayer
DESCRIPTION:Crossing Strings – ein Gitarren Duo\, das auf den ersten Blick unterschiedlicher nicht sein könnte. Ein Duo\, bei dem zwei scheinbar vollkommen unterschiedliche Welten aufeinanderprallen. Die klassische Gitarristin Carina Maria Linder und der Fingerstylegitarrist Markus Schlesinger begeistern mit einem Programm\, das beide Fachgebiete vereint.\nDas Publikum erwartet ein abwechslungsreicher Mix aus selbstarrangierten klassischen\, jazzigen und poppigen Evergreens\, aus verschütteten und wieder ausgegrabenen musikalischer Schätzen und zwei Stimmen\, die diesen gleichermaßen durch impulsive Intensität wie auch spielerische Leichtigkeit abrunden. Durch den Brückenschlag zwischen zwei scheinbar konträren Welten\, ergeht sich dieses Duo in einer facettenreichen Symbiose aus Klassik\, Jazz und populärer Musik\, um das Publikum in vollkommen neue und unbekannte musikalische Sphären zu entführen. \nVeranstaltungsort: Bühne Mayer\, Kaiserin Elisabethstr. 22\, Mödling\nBeginn: 19:30 Uhr\nEintritt: 20\,-\nKartenreservierung: 02236/244 81\nMehr Infos unter www.crossing-strings.com \n
URL:https://www.strawanzerin.at/termin/crossing-strings-buehne-mayer/
LOCATION:Bühne Mayer Mödling\, Kaiserin Elisabethstr. 22\, Mödling\, Niederösterreich\, 2340\, Österreich
CATEGORIES:Musik
ATTACH;FMTTYPE=image/jpeg:https://www.strawanzerin.at/wp-content/uploads/2022/02/Crossing-Strings_mittel.jpg
GEO:48.0839405;16.2825987
X-APPLE-STRUCTURED-LOCATION;VALUE=URI;X-ADDRESS=Bühne Mayer Mödling Kaiserin Elisabethstr. 22 Mödling Niederösterreich 2340 Österreich;X-APPLE-RADIUS=500;X-TITLE=Kaiserin Elisabethstr. 22:geo:16.2825987,48.0839405
END:VEVENT
END:VCALENDAR