BEGIN:VCALENDAR
VERSION:2.0
PRODID:-//STRAWANZERIN - ECPv4.9.5//NONSGML v1.0//EN
CALSCALE:GREGORIAN
METHOD:PUBLISH
X-WR-CALNAME:STRAWANZERIN
X-ORIGINAL-URL:https://www.strawanzerin.at
X-WR-CALDESC:Veranstaltungen im STRAWANZERIN
BEGIN:VTIMEZONE
TZID:"Europe/Vienna"
BEGIN:DAYLIGHT
TZOFFSETFROM:+0100
TZOFFSETTO:+0200
TZNAME:CEST
DTSTART:20240331T010000
END:DAYLIGHT
BEGIN:STANDARD
TZOFFSETFROM:+0200
TZOFFSETTO:+0100
TZNAME:CET
DTSTART:20241027T010000
END:STANDARD
END:VTIMEZONE
BEGIN:VEVENT
DTSTART;TZID="Europe/Vienna":20240308T190000
DTEND;TZID="Europe/Vienna":20240308T210000
DTSTAMP:20260419T224233
CREATED:20240209T134135Z
LAST-MODIFIED:20240209T134135Z
UID:96556-1709924400-1709931600@www.strawanzerin.at
SUMMARY:Crossing Strings @ Freuraum
DESCRIPTION:Das Gitarrenduo Crossing Strings ist ein einzigartiges Duo\, das auf den ersten Blick nicht unterschiedlicher sein könnte. Die klassische Gitarristin Carina Maria Linder und der Fingerstylegitarrist Markus Schlesinger\nhaben mit ihrem kühnen Brückenschlag zwischen klassischer Eleganz und Fingerstyle-Virtuosität\, eine faszinierende Symbiose aus Klassik\, Jazz und populärer Musik erschaffen. \nMit ihrem abwechslungsreichen Programm erwartet das Publikum eine facettenreiche Mischung aus selbstarrangierten klassischen\, jazzigen und poppigen Evergreens. Crossing Strings präsentiert nicht nur verschüttete und wieder ausgegrabene musikalische Schätze\, sondern auch zwei einzigartige Stimmen\, die durch ihre Intensität und spielerische Leichtigkeit gleichermaßen beeindrucken. Auf diese Weise entführt das Duo sein Publikum in bisher unerforschte musikalische Sphären und eröffnet eine Welt voller neuer und unbekannter Klangerlebnisse.\nwww.crossing-strings.com \nVeranstaltungsort: Freuraum\, Fanny-Elßler-Gasse 3\, 7000 Eisenstadt\nBeginn: 19:00 Uhr\nEintritt: freie Spende\nKartenreservierung: www.freu-raum.at\nInfos unter: www.freu-raum.at \n
URL:https://www.strawanzerin.at/termin/crossing-strings-freuraum/
LOCATION:FreuRaum\, Fanny Eißler Gasse 3\, Eisenstadt\, Burgenland\, 7000\, Österreich
ATTACH;FMTTYPE=image/jpeg:https://www.strawanzerin.at/wp-content/uploads/2024/02/Crossing-Strings2_klein.jpg
END:VEVENT
END:VCALENDAR