BEGIN:VCALENDAR
VERSION:2.0
PRODID:-//STRAWANZERIN - ECPv4.9.5//NONSGML v1.0//EN
CALSCALE:GREGORIAN
METHOD:PUBLISH
X-WR-CALNAME:STRAWANZERIN
X-ORIGINAL-URL:https://www.strawanzerin.at
X-WR-CALDESC:Veranstaltungen im STRAWANZERIN
BEGIN:VTIMEZONE
TZID:"Europe/Vienna"
BEGIN:DAYLIGHT
TZOFFSETFROM:+0100
TZOFFSETTO:+0200
TZNAME:CEST
DTSTART:20260329T010000
END:DAYLIGHT
BEGIN:STANDARD
TZOFFSETFROM:+0200
TZOFFSETTO:+0100
TZNAME:CET
DTSTART:20261025T010000
END:STANDARD
END:VTIMEZONE
BEGIN:VEVENT
DTSTART;TZID="Europe/Vienna":20260530T110000
DTEND;TZID="Europe/Vienna":20260530T130000
DTSTAMP:20260421T005321
CREATED:20260416T134236Z
LAST-MODIFIED:20260416T134236Z
UID:113916-1780138800-1780146000@www.strawanzerin.at
SUMMARY:Crossing Strings LIVE @ Papierfabrik Varieté
DESCRIPTION:Das Crossover-Duo Crossing Strings tourt gerade im deutschsprachigen Raum und ist dabei am Samstag\, dem 30. Mai 2026 in der Papierfabrik Varieté Theater live zu erleben! \nFrom Intersections to Interwoven\nMit dem ersten Album „Intersections“ katapultierte sich das Crossover-Gitarrenduo „an die Spitze der europäischen Fingerpicker-Szene“ (Concerto 6/22). Nach einer ausgedehnten Australien Tournee folgt nun „Interwoven“ – das neue Programm des Duos\, das aktuell zu einem neuen Album heranwächst. Interwoven\, weil hier die verwobenen Geschichten und Erlebnisse der beiden Gitarrist:innen Carina Maria Linder und Markus Schlesinger im Vordergrund stehen. \nWenn sie sich in ihrem Erstlingswerk noch an ihren stilistischen und musikalischen Schnittpunkten getroffen haben\, so kann man ihre Musik mittlerweile als verwoben beschreiben… verwoben zu einem völlig neuen Stil\, der die Grenzen von Klassik\, Jazz und Weltmusik verschwimmen lässt und ein eigenes musikalisches Universum kreiert. Während ihrer ersten Australien-Tournee wurden die Musiker:innen von der Idee inspiriert\, dass erst die Verwobenheit und der Austausch der einzelnen Individuen diese zu einem fruchtbaren und konstruktiven Ganzen werden lässt und sie beschlossen\, diesem Konzept gleich einen ganzen Tonträger zu widmen. Auf dem Weg dorthin präsentieren Linder und Schlesinger sowohl neue als auch alte Songs – also from Intersections to Interwoven!\nwww.crossing-strings.com \nVeranstaltungsort: Papierfabrik Varieté Theater\, Kirchenpl. 9\, 2431 Klein-Neusiedl\nBeginn: 11:00 Uhr\nEintritt: € 21\,-\nKarten unter: https://shop.papierfabrik-variete\nInfos unter: https://shop.papierfabrik-variete \n
URL:https://www.strawanzerin.at/termin/crossing-strings-live-papierfabrik-variete/
LOCATION:Papierfabrik Varieté\, Kirchenplatz 9\, Kleinneusiedl\, Niederösterreich\, 2431
CATEGORIES:Musik
ATTACH;FMTTYPE=image/jpeg:https://www.strawanzerin.at/wp-content/uploads/2026/04/LBP6116_kleiner-Ausschnitt.jpg
ORGANIZER;CN="Papierfabrik%20Vari%C3%A9t%C3%A9":MAILTO:info@papierfabrik-variete.com
END:VEVENT
END:VCALENDAR