BEGIN:VCALENDAR
VERSION:2.0
PRODID:-//STRAWANZERIN - ECPv4.9.5//NONSGML v1.0//EN
CALSCALE:GREGORIAN
METHOD:PUBLISH
X-WR-CALNAME:STRAWANZERIN
X-ORIGINAL-URL:https://www.strawanzerin.at
X-WR-CALDESC:Veranstaltungen im STRAWANZERIN
BEGIN:VTIMEZONE
TZID:"Europe/Vienna"
BEGIN:DAYLIGHT
TZOFFSETFROM:+0100
TZOFFSETTO:+0200
TZNAME:CEST
DTSTART:20250330T010000
END:DAYLIGHT
BEGIN:STANDARD
TZOFFSETFROM:+0200
TZOFFSETTO:+0100
TZNAME:CET
DTSTART:20251026T010000
END:STANDARD
END:VTIMEZONE
BEGIN:VEVENT
DTSTART;TZID="Europe/Vienna":20251012T160000
DTEND;TZID="Europe/Vienna":20251012T190000
DTSTAMP:20260422T160437
CREATED:20250227T130848Z
LAST-MODIFIED:20250227T130848Z
UID:106295-1760284800-1760295600@www.strawanzerin.at
SUMMARY:Damenflohmarkt
DESCRIPTION:* ALLWETTERFLOHMARKT – bei über 200 Indoor-Tischen ist bei jedem Wetter zu jeder Jahreszeit für jeden ein Schnäppchen dabei 😉\n* Alles\, was Frau so braucht:\nDamenmode\, Schuhe\, Accessoires\, Kopfbedeckungen\, Schmuck\, Uhren\, Haar-Accessoires\, Sonnenbrillen\, Taschen\, Parfum\, Kosmetik\, Bücher\, Sportsachen\, Deko\, Krimskrams …\n* GRATIS Eintritt\n* Kostenlos parken kannst Du in den Gassen rund um die VHS Floridsdorf\n* sehr gute öffentliche Verkehrsanbindung —Haltestelle/Bahnhof Floridsdorf ist nur 3 Gehminuten entfernt\n* gemütliches Shoppen von 16-19 Uhr mit Umkleidekabine und Spiegeln\n* bewachte Besuchergarderobe – pro Haken € 1\,50. Roller\, Einkaufstrolleys und „andere Fahrzeuge“ dürfen NICHT in die Säle der VHS. Um € 1\,50 kannst Du sie in der bewachten Besuchergarderobe parken.\n* Naschecke – kleine Snacks für zwischendurch\n* GRATIS Kinderwagenparkplatz in der bewachten Besuchergarderobe – KINDERWAGENVERBOT in allen Sälen der VHS (Hausordnung)\n* diskrete Stillecke\n* WC-Anlagen inkl. Wickelraum\n* Hunde dürfen nicht in die Säle der VHS (Hausordnung)\nInfos\, wenn Du VERKAUFEN möchtest:\ndie Gebühr für einen Verkaufsplatz (Tisch ca. 120×60 cm) beträgt ab € 22\,00 bei Buchung bis 2 Monate vor dem Termin\, danach ab € 24\,00. Tische und Sessel sind schon aufgestellt und müssen nicht mitgebracht werden. Einlass für alle\, die einen Tisch gebucht haben: 15:00 Uhr.\nSuche Dir Deinen Wunschtisch aus und buche gleich unter www.riesenflohmarkt.wien. \nÄnderungen vorbehalten – aktuelle Infos findest Du auf unserer Webseite www.riesenflohmarkt.wien. \n
URL:https://www.strawanzerin.at/termin/damenflohmarkt-2/2025-10-12/
LOCATION:VHS Floridsdorf\, Angerer Str. 14\, Wien\, Wien\, 1210\, Österreich
CATEGORIES:Flohmarkt
ATTACH;FMTTYPE=image/png:https://www.strawanzerin.at/wp-content/uploads/2025/02/Damenflohmarkt.png
ORGANIZER;CN="Eventhasi%20OG":MAILTO:info@riesenflohmarkt.wien
END:VEVENT
END:VCALENDAR