BEGIN:VCALENDAR
VERSION:2.0
PRODID:-//STRAWANZERIN - ECPv4.9.5//NONSGML v1.0//EN
CALSCALE:GREGORIAN
METHOD:PUBLISH
X-WR-CALNAME:STRAWANZERIN
X-ORIGINAL-URL:https://www.strawanzerin.at
X-WR-CALDESC:Veranstaltungen im STRAWANZERIN
BEGIN:VTIMEZONE
TZID:"Europe/Vienna"
BEGIN:DAYLIGHT
TZOFFSETFROM:+0100
TZOFFSETTO:+0200
TZNAME:CEST
DTSTART:20220327T010000
END:DAYLIGHT
BEGIN:STANDARD
TZOFFSETFROM:+0200
TZOFFSETTO:+0100
TZNAME:CET
DTSTART:20221030T010000
END:STANDARD
END:VTIMEZONE
BEGIN:VEVENT
DTSTART;TZID="Europe/Vienna":20220402T203000
DTEND;TZID="Europe/Vienna":20220402T223000
DTSTAMP:20260422T173946
CREATED:20220406T134030Z
LAST-MODIFIED:20230207T134950Z
UID:83731-1648931400-1648938600@www.strawanzerin.at
SUMMARY:DARUM: AUSGANG: OFFEN FILMSCREENING EIN FILM ÜBER DEN TOD UND DAS STERBEN
DESCRIPTION:Für kaum einen Begriff kennen die Sprachen dieser Welt so viele Euphemismen wie für den Tod: Instinktiv meidet der Mensch das Tote\, versucht er\, es unsichtbar zu machen und an die Ränder des Wahrnehmbaren zu verdrängen. Das Tote (und als Vorstufe dazu: das Sterbende) erinnert uns an die Vergänglichkeit der Dinge und schließlich\, unausweichlich\, an unser eigenes Ende als das letzte notwendige Übel. Was danach kommt\, entzieht sich unserem Wissen\, zurück in die Sphäre des Glaubens oder der ratlosen Spekulation. Unwissen jedoch erzeugt Angst. Wie also begegnen wir der unvermeidbaren Realität des Todes? \nAUSGANG: OFFEN\, die nach „Ungebetene Gäste“ (nominiert für den Nestroy-Spezialpreis 2019 und eingeladen zum Impulse Theater Festival 2020) zweite Produktion des Wiener Performancekollektivs DARUM\, hätte Anfang April 2020 als eine vom Publikum jeweils einzeln begehbare Installation in den verlassenen Büroräumlichkeiten eines ehemaligen Gebäudekomplexes im Süden Wiens Premiere gefeiert. Durch die Coronakrise und die damit verbundenen Veranstaltungsbeschränkungen wurde schnell klar\, dass das Projekt nicht in seiner ursprünglichen Form stattfinden können wird. Das film-erfahrene Wiener Künstler_innenkollektiv DARUM erarbeitete daraufhin die Idee eines immersiven\, aus der Egoperspektive erlebten Experimentalfilms\, der seine Zuschauer_innen die performative Installation durch das Kameraauge erleben lässt und in unverhüllter Intimität mit verschiedenen Manifestationen von Tod\, Sterben und Vergänglichkeit konfrontiert. \nAuf Grundlage zahlreicher Gespräche mit sowie unter der darstellerischen Mitwirkung von Menschen mit Nahtoderfahrungen\, unheilbar Kranken\, Sterbenden\, Angehörigen und solchen\, die beruflich mit Sterbenden und Toten zu tun haben\, entstand ein hochaktueller\, experimenteller Hybrid zwischen Film und intensiver 1:1-Performance\, der das Verdrängte ins Bewusstsein hervorholt: Ein Angebot\, dem Unbegreiflichen mit einer Ahnung zu begegnen und dem Tod aus unmittelbarer Entfernung und sicherer Nähe ins Auge zu blicken. \n
URL:https://www.strawanzerin.at/termin/darum-ausgang-offen-filmscreening-ein-film-ueber-den-tod-und-das-sterben/2022-04-02/
LOCATION:wuk\, foyer\, Währingerstraße 59\, WUK performing arts\, wien\, 1090\, Österreich
CATEGORIES:ab 7,Eintrittspreis
ATTACH;FMTTYPE=image/jpeg:https://www.strawanzerin.at/wp-content/uploads/2022/03/csm_AO_Film_Motiv_1x2__c__DARUM_ohne_f6ca8c53ef.jpeg
ORGANIZER;CN="WUK%20performing%20arts":MAILTO:performingarts@wuk.at
END:VEVENT
END:VCALENDAR