BEGIN:VCALENDAR
VERSION:2.0
PRODID:-//STRAWANZERIN - ECPv4.9.5//NONSGML v1.0//EN
CALSCALE:GREGORIAN
METHOD:PUBLISH
X-WR-CALNAME:STRAWANZERIN
X-ORIGINAL-URL:https://www.strawanzerin.at
X-WR-CALDESC:Veranstaltungen im STRAWANZERIN
BEGIN:VTIMEZONE
TZID:"Europe/Vienna"
BEGIN:DAYLIGHT
TZOFFSETFROM:+0100
TZOFFSETTO:+0200
TZNAME:CEST
DTSTART:20180325T010000
END:DAYLIGHT
BEGIN:STANDARD
TZOFFSETFROM:+0200
TZOFFSETTO:+0100
TZNAME:CET
DTSTART:20181028T010000
END:STANDARD
END:VTIMEZONE
BEGIN:VEVENT
DTSTART;TZID="Europe/Vienna":20180307T190000
DTEND;TZID="Europe/Vienna":20180307T213000
DTSTAMP:20260423T160343
CREATED:20180219T141152Z
LAST-MODIFIED:20180228T082605Z
UID:52646-1520449200-1520458200@www.strawanzerin.at
SUMMARY:Das beste Haus. Architektur­preis 2018
DESCRIPTION:Preisverleihung & Ausstellungseröffnung\nBereits zum siebten Mal wurden die besten Ein- und Zweifamilienhäuser Österreichs gesucht. Der sorgsame Umgang mit dem Bestand wird dabei immer wichtiger.\nDie s Bausparkasse hat in Zusammenarbeit mit dem Bundeskanzleramt Österreich und dem Architekturzentrum Wien den Preis „Das beste Haus“ ausgeschrieben. Die Jury\, bestehend aus Vertreter*innen der regionalen Architekturinstitutionen Österreichs\, prämierte aus den zahlreichen Einreichungen „Das beste Haus“ jedes Bundeslandes. Auch bei den diesjährigen Finalist*innen lässt sich der Trend zum Bauen im Bestand\, also der Erweiterung und Umnutzung bestehender Gebäude\, ablesen. Ungebrochen ist die Hinwendung zu natürlichen und rohen Baumaterialien. Im Rahmen der Preisverleihung werden die neun Siegerprojekte im Az W ausgezeichnet und gemeinsam mit weiteren sehenswerten Nominierungen in einer Ausstellung präsentiert. \n
URL:https://www.strawanzerin.at/termin/das-beste-haus-architektur%c2%adpreis-2018/
LOCATION:Architekturzentrum Wien\, Museumsplatz 1\, Wien\, Wien\, 1200\, Österreich
CATEGORIES:Ausstellung
ATTACH;FMTTYPE=image/jpeg:https://www.strawanzerin.at/wp-content/uploads/2018/02/Blatthaus-©-Lukas-Schaller_640x740.jpg
GEO:48.2034986;16.3591175
X-APPLE-STRUCTURED-LOCATION;VALUE=URI;X-ADDRESS=Architekturzentrum Wien Museumsplatz 1 Wien Wien 1200 Österreich;X-APPLE-RADIUS=500;X-TITLE=Museumsplatz 1:geo:16.3591175,48.2034986
END:VEVENT
END:VCALENDAR