BEGIN:VCALENDAR
VERSION:2.0
PRODID:-//STRAWANZERIN - ECPv4.9.5//NONSGML v1.0//EN
CALSCALE:GREGORIAN
METHOD:PUBLISH
X-WR-CALNAME:STRAWANZERIN
X-ORIGINAL-URL:https://www.strawanzerin.at
X-WR-CALDESC:Veranstaltungen im STRAWANZERIN
BEGIN:VTIMEZONE
TZID:"Europe/Vienna"
BEGIN:DAYLIGHT
TZOFFSETFROM:+0100
TZOFFSETTO:+0200
TZNAME:CEST
DTSTART:20230326T010000
END:DAYLIGHT
BEGIN:STANDARD
TZOFFSETFROM:+0200
TZOFFSETTO:+0100
TZNAME:CET
DTSTART:20231029T010000
END:STANDARD
END:VTIMEZONE
BEGIN:VEVENT
DTSTART;TZID="Europe/Vienna":20230915T183000
DTEND;TZID="Europe/Vienna":20230915T200000
DTSTAMP:20260423T163945
CREATED:20230831T102448Z
LAST-MODIFIED:20230831T102448Z
UID:93156-1694802600-1694808000@www.strawanzerin.at
SUMMARY:Das BGE am Podium: Mit dem bedingungslosen Grundeinkommen vom Existenzkampf zum sozialen Frieden
DESCRIPTION:Wie kann es sein\, dass die meisten Menschen einer Erwerbsarbeit nachgehen und trotzdem von Existenzsorgen geplagt werden\, während einige Wenige ein Vermögen besitzen\, ohne dafür einen Finger zu rühren? Dass unsere Gesellschaft eine gerechte Verteilung braucht\, ist klar und wäre mit einem bedingungslosen Grundeinkommen (BGE) auch tatsächlich möglich. \nZu diesem Thema diskutieren am Podium und mit dem Publikum: \nUtta Isop\, Philosophin und Geschlechterforscherin\nTina Perisutti\, Kulturarbeiterin und Journalistin\nKarl Dittrich\, Akademie Bewusstsein Grundeinkommen\nAlois Tuscher\, Katholische Arbeiterbewegung\nModeration: Martin Diendorfer \nEine Veranstaltung vom Verein Kärnten andas.\nEintritt frei\, keine Anmeldung notwendig! \n
URL:https://www.strawanzerin.at/termin/das-bge-am-podium-mit-dem-bedingungslosen-grundeinkommen-vom-existenzkampf-zum-sozialen-frieden/
LOCATION:VENTIL\, Kardinalplatz 1\, Klagenfurt am Wörthersee\, Kärnten\, 9020\, Österreich
CATEGORIES:Kärnten/Koroška,Sonstiges,Soziale Kämpfe,Vortrag/Symposium,Workshop
ATTACH;FMTTYPE=image/jpeg:https://www.strawanzerin.at/wp-content/uploads/2023/08/00-FB-BGE-Veranstaltungssujet-scaled.jpg
ORGANIZER;CN="K%C3%A4rnten%20andas":MAILTO:kaernten@andas.jetzt
END:VEVENT
END:VCALENDAR