BEGIN:VCALENDAR
VERSION:2.0
PRODID:-//STRAWANZERIN - ECPv4.9.5//NONSGML v1.0//EN
CALSCALE:GREGORIAN
METHOD:PUBLISH
X-WR-CALNAME:STRAWANZERIN
X-ORIGINAL-URL:https://www.strawanzerin.at
X-WR-CALDESC:Veranstaltungen im STRAWANZERIN
BEGIN:VTIMEZONE
TZID:"Europe/Helsinki"
BEGIN:DAYLIGHT
TZOFFSETFROM:+0200
TZOFFSETTO:+0300
TZNAME:EEST
DTSTART:20150329T010000
END:DAYLIGHT
BEGIN:STANDARD
TZOFFSETFROM:+0300
TZOFFSETTO:+0200
TZNAME:EET
DTSTART:20151025T010000
END:STANDARD
END:VTIMEZONE
BEGIN:VEVENT
DTSTART;TZID="Europe/Helsinki":20150424T193000
DTEND;TZID="Europe/Helsinki":20150424T213000
DTSTAMP:20260419T135736
CREATED:20150413T162804Z
LAST-MODIFIED:20150413T162933Z
UID:12780-1429903800-1429911000@www.strawanzerin.at
SUMMARY:Das DORF
DESCRIPTION:Inhalt:\nDer ruhige Alltag des kleinen Dörfchens Putzleinsdorf wird durch die Ankunft des Werbemanager Nikolas Braun durcheinander gebracht\, als er\ndem Dorf die Aussicht auf einen Gewinn bei einem Umweltwettbewerb verspricht. Bürgermeister Pischinger\, Schuldirektor Kreutzer und Pfarrer Prankl erhoffen sich persönlichen Nutzen und stimmen mehrheitlich für eine Teilnahme. Doch bald kommen alte Geheimnisse ans Licht und ein anonymer Brief droht die scheinbare Idylle zu zerbrechen…\nEin Stück über Scheinmoral\, Lügen\, aber auch über Träume\, Freundschaft und die Stärke Wunden zu überwinden. \n
URL:https://www.strawanzerin.at/termin/das-dorf/2015-04-24/
LOCATION:Theaterbrett\, 6\, Münzwardeingasse 2\, Wien\, Wien\, 1060\, Österreich
CATEGORIES:Deutsch,Eintrittspreis,Kunst/Kultur,Theater/Kabarett,Wien
ATTACH;FMTTYPE=:
ORGANIZER;CN="Theater%20Delphin":MAILTO:g.weber@theater-delphin.at
GEO:48.1940234;16.3518698
X-APPLE-STRUCTURED-LOCATION;VALUE=URI;X-ADDRESS=Theaterbrett 6 Münzwardeingasse 2 Wien Wien 1060 Österreich;X-APPLE-RADIUS=500;X-TITLE=6\, Münzwardeingasse 2:geo:16.3518698,48.1940234
END:VEVENT
END:VCALENDAR