BEGIN:VCALENDAR
VERSION:2.0
PRODID:-//STRAWANZERIN - ECPv4.9.5//NONSGML v1.0//EN
CALSCALE:GREGORIAN
METHOD:PUBLISH
X-WR-CALNAME:STRAWANZERIN
X-ORIGINAL-URL:https://www.strawanzerin.at
X-WR-CALDESC:Veranstaltungen im STRAWANZERIN
BEGIN:VTIMEZONE
TZID:"Europe/Vienna"
BEGIN:DAYLIGHT
TZOFFSETFROM:+0100
TZOFFSETTO:+0200
TZNAME:CEST
DTSTART:20250330T010000
END:DAYLIGHT
BEGIN:STANDARD
TZOFFSETFROM:+0200
TZOFFSETTO:+0100
TZNAME:CET
DTSTART:20251026T010000
END:STANDARD
END:VTIMEZONE
BEGIN:VEVENT
DTSTART;TZID="Europe/Vienna":20250206T180000
DTEND;TZID="Europe/Vienna":20250206T180000
DTSTAMP:20260425T103432
CREATED:20250128T183244Z
LAST-MODIFIED:20250128T183244Z
UID:105720-1738864800-1738864800@www.strawanzerin.at
SUMMARY:Das Geschäft mit der Angst: Daten\, Überwachung und die Kommodifizierung von Sicherheit
DESCRIPTION:Vortrag mit Marianne Hofbauer (Aktivistin und Sozialwissenschaftlerin)\nDaten sind das „Erdöl des 21. Jahrhunderts“. Die Extraktion von Profit aus Daten formt die sozialen Geschlechterverhältnisse. An der Schnittstelle von Datenkapitalismus und neoliberalen Ideologien zu Sicherheit und Selbstoptimierung entsteht eine neue Dynamik: die Vermarktung von Sicherheit\, die vor allem von Unsicherheit lebt. Sogenannte persönliche Sicherheits-Apps sind ein eindrückliches Beispiel dafür\, wie Überwachung\, Datenextraktion und die schleichende Retraditionalisierung von Geschlechterrollen ineinandergreifen. Dadurch werden Ängste verstärkt\, während die zugrunde liegenden gesellschaftlichen Strukturen unbeachtet bleiben. \nModeration: Irmtraud Voglmayr \nDie Veranstaltung ist für alle Geschlechter \n
URL:https://www.strawanzerin.at/termin/das-geschaeft-mit-der-angst-daten-ueberwachung-und-die-kommodifizierung-von-sicherheit/
LOCATION:Frauenbildungsstätte Frauenhetz\, Untere Weißgerberstraße 41\, Wien\, Wien\, 1030\, Österreich
CATEGORIES:Barrierefrei,Deutsch,Feminismus,Gratis,Medien,Vortrag/Symposium,Wien
GEO:48.2084854;16.3946163
X-APPLE-STRUCTURED-LOCATION;VALUE=URI;X-ADDRESS=Frauenbildungsstätte Frauenhetz Untere Weißgerberstraße 41 Wien Wien 1030 Österreich;X-APPLE-RADIUS=500;X-TITLE=Untere Weißgerberstraße 41:geo:16.3946163,48.2084854
END:VEVENT
END:VCALENDAR