BEGIN:VCALENDAR
VERSION:2.0
PRODID:-//STRAWANZERIN - ECPv4.9.5//NONSGML v1.0//EN
CALSCALE:GREGORIAN
METHOD:PUBLISH
X-WR-CALNAME:STRAWANZERIN
X-ORIGINAL-URL:https://www.strawanzerin.at
X-WR-CALDESC:Veranstaltungen im STRAWANZERIN
BEGIN:VTIMEZONE
TZID:"Europe/Vienna"
BEGIN:DAYLIGHT
TZOFFSETFROM:+0100
TZOFFSETTO:+0200
TZNAME:CEST
DTSTART:20180325T010000
END:DAYLIGHT
BEGIN:STANDARD
TZOFFSETFROM:+0200
TZOFFSETTO:+0100
TZNAME:CET
DTSTART:20181028T010000
END:STANDARD
END:VTIMEZONE
BEGIN:VEVENT
DTSTART;TZID="Europe/Vienna":20181201T180000
DTEND;TZID="Europe/Vienna":20181201T200000
DTSTAMP:20260422T123214
CREATED:20181107T071800Z
LAST-MODIFIED:20181107T071800Z
UID:60522-1543687200-1543694400@www.strawanzerin.at
SUMMARY:Das hätt' ich mir nie träumen lassen
DESCRIPTION:Musical für Familien von Stephan Kerschbaum \nKerschbaums Tonvoll & Tonvoll Klangwölkchen bringen am 1.12.2018 die Premiere der Wiederaufnahme des Musicals auf die Bühne. Das Kinder- und Jugendensemble der 5- bis 15-Jährigen widmet sich dem heißesten Thema der Pubertät: Verliebtsein. Von unterschiedlichen Altersklassen und mit viel Humor wird das Thema aus allen möglichen Blickwinkeln dargestellt.\nMusik und Regie: Stephan Kerschbaum\nText: Babsi Maly & Angie Weikmann\nChoreographie: Julia Hajek & Bianca Kerschbaum \n
URL:https://www.strawanzerin.at/termin/das-haett-ich-mir-nie-traeumen-lassen/2018-12-01/
LOCATION:Komensky Theater\, Sebastianplatz 3\, Wien\, Wien\, 1030\, Österreich
CATEGORIES:Kinderkultur
ATTACH;FMTTYPE=image/png:https://www.strawanzerin.at/wp-content/uploads/2018/11/Traäumenlassen-Sujet-klein.png
ORGANIZER;CN="Tonvoll":MAILTO:marina.polly@tonvoll.at 
GEO:48.1998465;16.3892438
X-APPLE-STRUCTURED-LOCATION;VALUE=URI;X-ADDRESS=Komensky Theater Sebastianplatz 3 Wien Wien 1030 Österreich;X-APPLE-RADIUS=500;X-TITLE=Sebastianplatz 3:geo:16.3892438,48.1998465
END:VEVENT
END:VCALENDAR