BEGIN:VCALENDAR
VERSION:2.0
PRODID:-//STRAWANZERIN - ECPv4.9.5//NONSGML v1.0//EN
CALSCALE:GREGORIAN
METHOD:PUBLISH
X-WR-CALNAME:STRAWANZERIN
X-ORIGINAL-URL:https://www.strawanzerin.at
X-WR-CALDESC:Veranstaltungen im STRAWANZERIN
BEGIN:VTIMEZONE
TZID:"Europe/Paris"
BEGIN:DAYLIGHT
TZOFFSETFROM:+0100
TZOFFSETTO:+0200
TZNAME:CEST
DTSTART:20150329T010000
END:DAYLIGHT
BEGIN:STANDARD
TZOFFSETFROM:+0200
TZOFFSETTO:+0100
TZNAME:CET
DTSTART:20151025T010000
END:STANDARD
END:VTIMEZONE
BEGIN:VEVENT
DTSTART;TZID="Europe/Paris":20150415T150000
DTEND;TZID="Europe/Paris":20150415T150000
DTSTAMP:20260420T174850
CREATED:20150420T133709Z
LAST-MODIFIED:20150420T133743Z
UID:14094-1429110000-1429110000@www.strawanzerin.at
SUMMARY:DAS KINO – Lateinamerika Filmfestival
DESCRIPTION:Vom 15. – 26. April 2015 findet wieder das Lateinamerika Filmfestival im Das Kino statt. Der Eröffnungsfilm kommt diesmal aus Kuba. „Conducta“ setzt sich dabei mit dem Schulsystem auseinander und bietet einen tiefen Einblick in das Alltagsleben von Havanna. Das Festival zeigt heuer an die 30 Beiträge\, darunter Klassiker sowie Österreich-Premieren\, Dokumentar- und\, in diesem Jahr neu\, auch Kurzfilme. Die junge Filmemacher-Szene überzeugt dabei durch raffinierte Erzählweise\, ästhetische Bildsprache und gelungener Unterhaltung. \nTel. 0662/873100-15\nwww.daskino.at \n
URL:https://www.strawanzerin.at/termin/das-kino-eindrucksvoll-und-ausdrucksstark/2015-04-15/
LOCATION:Österreich
CATEGORIES:Film,Salzburg
ATTACH;FMTTYPE=:
END:VEVENT
END:VCALENDAR