BEGIN:VCALENDAR
VERSION:2.0
PRODID:-//STRAWANZERIN - ECPv4.9.5//NONSGML v1.0//EN
CALSCALE:GREGORIAN
METHOD:PUBLISH
X-WR-CALNAME:STRAWANZERIN
X-ORIGINAL-URL:https://www.strawanzerin.at
X-WR-CALDESC:Veranstaltungen im STRAWANZERIN
BEGIN:VTIMEZONE
TZID:"Europe/Helsinki"
BEGIN:DAYLIGHT
TZOFFSETFROM:+0200
TZOFFSETTO:+0300
TZNAME:EEST
DTSTART:20150329T010000
END:DAYLIGHT
BEGIN:STANDARD
TZOFFSETFROM:+0300
TZOFFSETTO:+0200
TZNAME:EET
DTSTART:20151025T010000
END:STANDARD
END:VTIMEZONE
BEGIN:VEVENT
DTSTART;TZID="Europe/Helsinki":20151107T150000
DTEND;TZID="Europe/Helsinki":20151107T161500
DTSTAMP:20260421T055645
CREATED:20151020T114124Z
LAST-MODIFIED:20151027T142345Z
UID:21100-1446908400-1446912900@www.strawanzerin.at
SUMMARY:…das Leben\, das war gestern -  Literarische Hommage an Josef Weinheber
DESCRIPTION:Heuer jährte sich der Todestag von Josef Weinheber zum 70. Mal. Aus diesem Anlass liest Rezitator Gregor Oezelt am Samstag\, 7. November 2015\, im Café Korb ausgewählte Werke des berühmten österreichischen Dichters und Erzählers. Beginn der Lesung ist um 15 Uhr. Der Eintritt ist kostenlos. Um freiwillige Spenden wird gebeten. \nSitzplatzreservierung:\nTel.: 0676 7481020\nE-Mail: gregor.oezelt@chello.at \nDas Foto zeigt Rezitator Gregor Oezelt im Wiener Café Korb.\nFoto/©: www.peterberger.at \n
URL:https://www.strawanzerin.at/termin/das-leben-das-war-gestern-literarische-hommage-an-josef-weinheber/
LOCATION:Österreich
CATEGORIES:Deutsch,freie Spende,Literatur,Wien
ATTACH;FMTTYPE=:
END:VEVENT
END:VCALENDAR