BEGIN:VCALENDAR
VERSION:2.0
PRODID:-//STRAWANZERIN - ECPv4.9.5//NONSGML v1.0//EN
CALSCALE:GREGORIAN
METHOD:PUBLISH
X-WR-CALNAME:STRAWANZERIN
X-ORIGINAL-URL:https://www.strawanzerin.at
X-WR-CALDESC:Veranstaltungen im STRAWANZERIN
BEGIN:VTIMEZONE
TZID:"Europe/Vienna"
BEGIN:DAYLIGHT
TZOFFSETFROM:+0100
TZOFFSETTO:+0200
TZNAME:CEST
DTSTART:20190331T010000
END:DAYLIGHT
BEGIN:STANDARD
TZOFFSETFROM:+0200
TZOFFSETTO:+0100
TZNAME:CET
DTSTART:20191027T010000
END:STANDARD
END:VTIMEZONE
BEGIN:VEVENT
DTSTART;TZID="Europe/Vienna":20191011T200000
DTEND;TZID="Europe/Vienna":20191011T213000
DTSTAMP:20260422T140614
CREATED:20190821T143109Z
LAST-MODIFIED:20191002T122942Z
UID:66575-1570824000-1570829400@www.strawanzerin.at
SUMMARY:DAS LESEFESTIVAL 2019: OSCAR WILDE - Die besten Geschichten
DESCRIPTION:Das Lesefestival „Let us build bridges\, not walls“ mit Sir Kristian Goldmund Aumann proudly presents OSCAR WILDE \nOscar Wilde; in den Märchen und Erzählungen funkelt die facettenreiche Wortkunst des irischen Dandys. \nOscar Wilde ist nicht nur für seine Gesellschaftssatiren und Das Bildnis des Dorian Gray bekannt. Auch in den Märchen und Erzählungen funkelt die facettenreiche Wortkunst des irischen Dandys. Alle öffnen sie Türen zu wunderbar reichen Gefühls- und Wahrnehmungswelten\, die von Liebe und Schönheit\, Anmut\, Mitgefühl und Leid erzählen. Und nirgendwo fehlen die überraschenden Wendungen\, die augenzwinkernden Momente. Die Sammlungen Lord Arthur Saviles Verbrechen\, Das Granatapfelhaus\, Der glückliche Prinz und Gedichte in Prosa sind jeweils vollständig enthalten und garantieren ein kurzweiliges Leseerlebnis. \nMusikalische Umrahmung:\nHector Berlioz – Fantastic Berlioz \nwww.kunstverbindetmenschen.com \nPERFORMER & POET\nSir Kristian Goldmund Aumann ist Dramatiker\, Poet\, Drehbuchautor\, Filmemacher\, Regisseur und Schauspieler – er lebt und arbeitet in St. Andrä-Wördern / NÖ. Nach seiner Ausbildung an der Lee Strassberg School in New York\, folgten längerfristige Engagements\, am Wiener Burgtheater (Ära Claus Peymann) und am Italienischen Staatstheater. Fernseh- und Kinofilmrollen im In- und Ausland. \n
URL:https://www.strawanzerin.at/termin/das-lesefestival-2019-oscar-wilde-die-besten-geschichten/
LOCATION:Minoritenkloster\, Minoritenplatz 1\, 3430 Tulln\, Niederösterreich\, 3430\, Österreich
CATEGORIES:Kunst/Kultur,Literatur,Niederösterreich,Theater/Kabarett
ATTACH;FMTTYPE=image/jpeg:https://www.strawanzerin.at/wp-content/uploads/2019/08/Oscar-Wilde-Portrait-PUBLIC-DOMAIN-WORK-I.jpg
ORGANIZER;CN="Kunst%20verbindet%20Menschen":MAILTO:office@kunstverbindetmenschen.com
END:VEVENT
END:VCALENDAR