BEGIN:VCALENDAR
VERSION:2.0
PRODID:-//STRAWANZERIN - ECPv4.9.5//NONSGML v1.0//EN
CALSCALE:GREGORIAN
METHOD:PUBLISH
X-WR-CALNAME:STRAWANZERIN
X-ORIGINAL-URL:https://www.strawanzerin.at
X-WR-CALDESC:Veranstaltungen im STRAWANZERIN
BEGIN:VTIMEZONE
TZID:"Europe/Helsinki"
BEGIN:DAYLIGHT
TZOFFSETFROM:+0200
TZOFFSETTO:+0300
TZNAME:EEST
DTSTART:20150329T010000
END:DAYLIGHT
BEGIN:STANDARD
TZOFFSETFROM:+0300
TZOFFSETTO:+0200
TZNAME:EET
DTSTART:20151025T010000
END:STANDARD
END:VTIMEZONE
BEGIN:VEVENT
DTSTART;TZID="Europe/Helsinki":20150312T193000
DTEND;TZID="Europe/Helsinki":20150312T193000
DTSTAMP:20260423T193238
CREATED:20150305T144432Z
LAST-MODIFIED:20150309T144236Z
UID:11829-1426188600-1426188600@www.strawanzerin.at
SUMMARY:Das Missverständnis
DESCRIPTION:Was passiert\, wenn der Mensch die Aufgabe\, den Sinn seines Lebens zu finden\, niemals erfüllt? Wenn der Weg zu sich selbst verschlossen bleibt und ihn nur ewige Einsamkeit erwartet?\nCamus beschreibt in seiner Parabel des verlorenen und heimkehrenden Sohnes\, der sich vor Mutter und Schwester nicht zu erkennen gibt\, was es bedeutet\, ein Fremder zu sein und zu bleiben. Wie hoch ist der Preis\, den ein Mensch bereit ist zu zahlen\, um am Ende nicht mehr allein zu sein? Ist die Rückkehr in den Schoß der Familie oder zu einer wie immer gearteten Heimat möglich – oder bleiben wir für alle Zeiten doch nur Gäste? \n
URL:https://www.strawanzerin.at/termin/das-missvestaendnis/2015-03-12/
LOCATION:Neue Studiobühne\, Penzinger Straße 9\, Max Reinhardt Seminar\, Wien\, 1140\, Österreich
CATEGORIES:Deutsch,freie Spende,Kunst/Kultur,Theater/Kabarett,Wien
ATTACH;FMTTYPE=:
ORGANIZER;CN="Max%20Reinhardt%20Seminar":MAILTO:mrs@mdw.ac.at
GEO:48.1896248;16.3129552
X-APPLE-STRUCTURED-LOCATION;VALUE=URI;X-ADDRESS=Neue Studiobühne Penzinger Straße 9 Max Reinhardt Seminar Wien 1140 Österreich;X-APPLE-RADIUS=500;X-TITLE=Penzinger Straße 9:geo:16.3129552,48.1896248
END:VEVENT
END:VCALENDAR