BEGIN:VCALENDAR
VERSION:2.0
PRODID:-//STRAWANZERIN - ECPv4.9.5//NONSGML v1.0//EN
CALSCALE:GREGORIAN
METHOD:PUBLISH
X-WR-CALNAME:STRAWANZERIN
X-ORIGINAL-URL:https://www.strawanzerin.at
X-WR-CALDESC:Veranstaltungen im STRAWANZERIN
BEGIN:VTIMEZONE
TZID:"Europe/Paris"
BEGIN:DAYLIGHT
TZOFFSETFROM:+0100
TZOFFSETTO:+0200
TZNAME:CEST
DTSTART:20150329T010000
END:DAYLIGHT
BEGIN:STANDARD
TZOFFSETFROM:+0200
TZOFFSETTO:+0100
TZNAME:CET
DTSTART:20151025T010000
END:STANDARD
END:VTIMEZONE
BEGIN:VEVENT
DTSTART;TZID="Europe/Paris":20150621T100000
DTEND;TZID="Europe/Paris":20150621T230000
DTSTAMP:20260423T174932
CREATED:20150603T134625Z
LAST-MODIFIED:20150612T093900Z
UID:17473-1434880800-1434927600@www.strawanzerin.at
SUMMARY:Das Orgelfest 2015
DESCRIPTION:Orgeln erklangen schon in römischen Arenen\, später in prächtigen Kirchen und schillernden Filmpalästen. Ein ganz besonderes Exemplar ist die Paulus-Orgel der Erlöserkirche Am Schüttel in Wien-Leopoldstadt. Am Sonntag\, 21. Juni 2015\, laden Konzerte mit Musik aus fünf Jahrhunderten\, eine Orgelführung\, Lichtinstallationen sowie Stummfilme samt Orgelbegleitung zum Staunen und Entdecken mit international renommierten Künstlern\, wie Peter Planyavsky\, Stuart Freeman\, Soap&Skin\, Anna Bertsch\, das Concilium musicum Wien und Peter Frisée. Zudem machen kulinarische Leckerbissen im schattigen Garten »Das Orgelfest« zu einem Rundumgenuss für alle Sinne. \nBild/© studioVIE \n
URL:https://www.strawanzerin.at/termin/das-orgelfest-2015/
LOCATION:Erlöserkirche Am Schüttel\, Rustenschacherallee 14 \, Wien\, Wien\, 1020\, Österreich
CATEGORIES:ab 7,Deutsch,Fest,Kunst/Kultur,Wien
ATTACH;FMTTYPE=image/jpeg:https://www.strawanzerin.at/wp-content/uploads/2015/06/DasOrgelfest2015.jpg
GEO:48.2086576;16.3988149
X-APPLE-STRUCTURED-LOCATION;VALUE=URI;X-ADDRESS=Erlöserkirche Am Schüttel Rustenschacherallee 14  Wien Wien 1020 Österreich;X-APPLE-RADIUS=500;X-TITLE=Rustenschacherallee 14:geo:16.3988149,48.2086576
END:VEVENT
END:VCALENDAR