BEGIN:VCALENDAR
VERSION:2.0
PRODID:-//STRAWANZERIN - ECPv4.9.5//NONSGML v1.0//EN
CALSCALE:GREGORIAN
METHOD:PUBLISH
X-WR-CALNAME:STRAWANZERIN
X-ORIGINAL-URL:https://www.strawanzerin.at
X-WR-CALDESC:Veranstaltungen im STRAWANZERIN
BEGIN:VTIMEZONE
TZID:"Europe/Vienna"
BEGIN:DAYLIGHT
TZOFFSETFROM:+0100
TZOFFSETTO:+0200
TZNAME:CEST
DTSTART:20230326T010000
END:DAYLIGHT
BEGIN:STANDARD
TZOFFSETFROM:+0200
TZOFFSETTO:+0100
TZNAME:CET
DTSTART:20231029T010000
END:STANDARD
END:VTIMEZONE
BEGIN:VEVENT
DTSTART;TZID="Europe/Vienna":20231019T180000
DTEND;TZID="Europe/Vienna":20231019T180000
DTSTAMP:20260420T202719
CREATED:20231002T125949Z
LAST-MODIFIED:20231002T125949Z
UID:94441-1697738400-1697738400@www.strawanzerin.at
SUMMARY:Das „schwache Geschlecht“ und seine „Beschützer“: Härte\, Militarisierung\, Männlichkeit
DESCRIPTION:Vortrag mit Diskussion \nKonkurrenz und Selbstverantwortung haben als gesellschaftliche Leitprinzipien seit den 1990er Jahren nicht nur eine neoliberale „Kultur der Härte“ (W. Fach) etabliert. Lange vor dem Krieg in der Ukraine wurde damit zugleich der Boden für die Wiederbelebung des Freund-Feind-Dualismus als politische Leitidee und für fortschreitende Militarisierung aufbereitet. Am Beispiel Österreichs zeigt der Vortrag\, wie sich neoliberale „Verhärtung“ und Militarisierung verbinden\, wie sich Militarisierung gegenwärtig artikuliert und wie sich dabei Geschlechterverhältnisse grundlegend re-traditionalisieren. \nMit Gabriele Michalitsch (Politikwissenschafterin und Ökonomin\, Wien) \nModeration: Irmtraud Voglmayr \nOrt: Frauenhetz\, Untere Weißgerberstraße 41\, 1030 Wien \n
URL:https://www.strawanzerin.at/termin/das-schwache-geschlecht-und-seine-beschuetzer-haerte-militarisierung-maennlichkeit/
LOCATION:Frauenbildungsstätte Frauenhetz\, Untere Weißgerberstraße 41\, Wien\, Wien\, 1030\, Österreich
CATEGORIES:Antimilitarismus,Barrierefrei,Deutsch,Feminismus,Gratis,Soziale Kämpfe,Vortrag/Symposium,Wien
ATTACH;FMTTYPE=image/png:https://www.strawanzerin.at/wp-content/uploads/2023/10/Härte-Militarisierung-und-Männlichkkeit.png
GEO:48.2084854;16.3946163
X-APPLE-STRUCTURED-LOCATION;VALUE=URI;X-ADDRESS=Frauenbildungsstätte Frauenhetz Untere Weißgerberstraße 41 Wien Wien 1030 Österreich;X-APPLE-RADIUS=500;X-TITLE=Untere Weißgerberstraße 41:geo:16.3946163,48.2084854
END:VEVENT
END:VCALENDAR