BEGIN:VCALENDAR
VERSION:2.0
PRODID:-//STRAWANZERIN - ECPv4.9.5//NONSGML v1.0//EN
CALSCALE:GREGORIAN
METHOD:PUBLISH
X-WR-CALNAME:STRAWANZERIN
X-ORIGINAL-URL:https://www.strawanzerin.at
X-WR-CALDESC:Veranstaltungen im STRAWANZERIN
BEGIN:VTIMEZONE
TZID:"Europe/Vienna"
BEGIN:DAYLIGHT
TZOFFSETFROM:+0100
TZOFFSETTO:+0200
TZNAME:CEST
DTSTART:20250330T010000
END:DAYLIGHT
BEGIN:STANDARD
TZOFFSETFROM:+0200
TZOFFSETTO:+0100
TZNAME:CET
DTSTART:20251026T010000
END:STANDARD
END:VTIMEZONE
BEGIN:VEVENT
DTSTART;TZID="Europe/Vienna":20250129T180000
DTEND;TZID="Europe/Vienna":20250129T193000
DTSTAMP:20260421T004243
CREATED:20250116T111110Z
LAST-MODIFIED:20250116T111110Z
UID:105491-1738173600-1738179000@www.strawanzerin.at
SUMMARY:Das unsichtbare Netz des Lebens: Wie Mikrobiom\, Biodiversität\, Umwelt und Ernährung unsere Gesundheit bestimmen
DESCRIPTION:Zivilisatorischer und technischer Fortschritt stehen zunehmend in Konflikt mit unserer Gesundheit und der Stabilität planetarer Ökosysteme. Ein gefährlich reduktionistisches Weltbild\, Klimawandel\, fortschreitende Urbanisierung\, neuartige Pandemien\, Umweltverschmutzung\, schwindende Biodiversität und ein fehlgeleitetes Ernährungssystem sind einige der neuen Herausforderungen. Basierend auf umfassenden ökologischen Untersuchungen und unter Berücksichtigung der neusten wissenschaftlichen Erkenntnisse der Mikrobiomforschung zieht Martin Grassberger Schlüsse über die fundamentalen Wechselwirkungen zwischen uns und unserer Umwelt. Er zeigt\, wie wir beunruhigenden Entwicklungen gegensteuern und auch in Zukunft ein gutes und gesundes Leben führen können. \n
URL:https://www.strawanzerin.at/termin/das-unsichtbare-netz-des-lebens-wie-mikrobiom-biodiversitaet-umwelt-und-ernaehrung-unsere-gesundheit-bestimmen/
LOCATION:Diplomatische Akademie (Wien)\, Favoritenstraße 15a\, Wien\, Wien\, 1040 \, Österreich
CATEGORIES:Vortrag/Symposium
GEO:48.1942176;16.3703657
X-APPLE-STRUCTURED-LOCATION;VALUE=URI;X-ADDRESS=Diplomatische Akademie (Wien) Favoritenstraße 15a Wien Wien 1040  Österreich;X-APPLE-RADIUS=500;X-TITLE=Favoritenstraße 15a:geo:16.3703657,48.1942176
END:VEVENT
END:VCALENDAR