BEGIN:VCALENDAR
VERSION:2.0
PRODID:-//STRAWANZERIN - ECPv4.9.5//NONSGML v1.0//EN
CALSCALE:GREGORIAN
METHOD:PUBLISH
X-WR-CALNAME:STRAWANZERIN
X-ORIGINAL-URL:https://www.strawanzerin.at
X-WR-CALDESC:Veranstaltungen im STRAWANZERIN
BEGIN:VTIMEZONE
TZID:"Europe/Paris"
BEGIN:DAYLIGHT
TZOFFSETFROM:+0100
TZOFFSETTO:+0200
TZNAME:CEST
DTSTART:20150329T010000
END:DAYLIGHT
BEGIN:STANDARD
TZOFFSETFROM:+0200
TZOFFSETTO:+0100
TZNAME:CET
DTSTART:20151025T010000
END:STANDARD
END:VTIMEZONE
BEGIN:VEVENT
DTSTART;TZID="Europe/Paris":20150624T200000
DTEND;TZID="Europe/Paris":20150624T213000
DTSTAMP:20260423T193246
CREATED:20150601T083719Z
LAST-MODIFIED:20150602T141136Z
UID:15108-1435176000-1435181400@www.strawanzerin.at
SUMMARY:David G. L. Weiss liest im Industrie
DESCRIPTION:David G. L. Weiss begeistert mit einem fesselnden und unterhaltsamen Schreibstil. Dies kombiniert er mit einer ausgezeichneten Recherche\, sodass das Buch nicht nur eine große Spannung aufbaut\, sondern auch verdeckt auf aktuelle politische Geschehnisse Bezug nimmt. Der Autor verankert in „Recht“ eine klug inszenierte Verschwörungstheorie in Form eines packenden Thrillers in einem österreichisch-deutschen Umfeld. \n
URL:https://www.strawanzerin.at/termin/david-g-l-weiss-liest-im-industrie/
LOCATION:Traditionscafé Industrie\, Margaretengürtel 12\, Wien\, Wien\, 1050\, Österreich
CATEGORIES:Deutsch,freie Spende,Literatur,Sonstiges,Wien
ATTACH;FMTTYPE=image/jpeg:https://www.strawanzerin.at/wp-content/uploads/2015/06/david_weiss_fb.jpg
ORGANIZER;CN="Ruth%20Binder":MAILTO:event@cafe-industrie.at
GEO:48.1838252;16.3664539
X-APPLE-STRUCTURED-LOCATION;VALUE=URI;X-ADDRESS=Traditionscafé Industrie Margaretengürtel 12 Wien Wien 1050 Österreich;X-APPLE-RADIUS=500;X-TITLE=Margaretengürtel 12:geo:16.3664539,48.1838252
END:VEVENT
END:VCALENDAR