BEGIN:VCALENDAR
VERSION:2.0
PRODID:-//STRAWANZERIN - ECPv4.9.5//NONSGML v1.0//EN
CALSCALE:GREGORIAN
METHOD:PUBLISH
X-WR-CALNAME:STRAWANZERIN
X-ORIGINAL-URL:https://www.strawanzerin.at
X-WR-CALDESC:Veranstaltungen im STRAWANZERIN
BEGIN:VTIMEZONE
TZID:"Europe/Vienna"
BEGIN:DAYLIGHT
TZOFFSETFROM:+0100
TZOFFSETTO:+0200
TZNAME:CEST
DTSTART:20190331T010000
END:DAYLIGHT
BEGIN:STANDARD
TZOFFSETFROM:+0200
TZOFFSETTO:+0100
TZNAME:CET
DTSTART:20191027T010000
END:STANDARD
END:VTIMEZONE
BEGIN:VEVENT
DTSTART;TZID="Europe/Vienna":20190322T193000
DTEND;TZID="Europe/Vienna":20190322T220000
DTSTAMP:20260420T155617
CREATED:20190310T191130Z
LAST-MODIFIED:20190310T191148Z
UID:62679-1553283000-1553292000@www.strawanzerin.at
SUMMARY:De Spotzn pfeifn’s scho vom Doch!
DESCRIPTION:Geschichten und Lieder von heiter bis wolkig.\nDie Wiener Singer-Songwriterin Olga Minski und der Wiener Autor und Satiriker Harald Pesata in einem gemeinsamen musikalisch-literarischen Programm. Wer die beiden ein bisschen kennt\, weiß\, es darf gelacht werden\, wer die beiden aber genau kennt\, weiß\, es wird auch wieder ordentlich ausgeteilt. Gesellschaftliche und politische Ungerechtigkeiten mögen sie nicht\, und das sagen sie auch – und zwar laut und deutlich. \n
URL:https://www.strawanzerin.at/termin/de-spotzn-pfeifns-scho-vom-doch/
LOCATION:‚S Baumgarten\, Linzer Straße 297\, Wien\, 1140 Wien\, Österreich
CATEGORIES:freie Spende
ATTACH;FMTTYPE=image/jpeg:https://www.strawanzerin.at/wp-content/uploads/2019/03/plakat_baumgarten_maerz19_web.jpg
END:VEVENT
END:VCALENDAR