BEGIN:VCALENDAR
VERSION:2.0
PRODID:-//STRAWANZERIN - ECPv4.9.5//NONSGML v1.0//EN
CALSCALE:GREGORIAN
METHOD:PUBLISH
X-WR-CALNAME:STRAWANZERIN
X-ORIGINAL-URL:https://www.strawanzerin.at
X-WR-CALDESC:Veranstaltungen im STRAWANZERIN
BEGIN:VTIMEZONE
TZID:"Europe/Vienna"
BEGIN:DAYLIGHT
TZOFFSETFROM:+0100
TZOFFSETTO:+0200
TZNAME:CEST
DTSTART:20170326T010000
END:DAYLIGHT
BEGIN:STANDARD
TZOFFSETFROM:+0200
TZOFFSETTO:+0100
TZNAME:CET
DTSTART:20171029T010000
END:STANDARD
END:VTIMEZONE
BEGIN:VEVENT
DTSTART;TZID="Europe/Vienna":20170527T190000
DTEND;TZID="Europe/Vienna":20170527T220000
DTSTAMP:20260422T060148
CREATED:20170508T152240Z
LAST-MODIFIED:20170511T104925Z
UID:43852-1495911600-1495922400@www.strawanzerin.at
SUMMARY:Deborah Sengl / Anna Doppler / Jakob Schauer
DESCRIPTION:Deborah Sengl „Von Hells Angels und Superfreaks“: \nAuf einem dekorierten Tisch steht ein Glücksengel – er hat sich mit Botox die Lippen aufgespritzt. Auch auf dem Nachtkästchen sitzt Gedanken-verloren ein Engerl – im Niqap. Und ein männlicher Schutzengel liegt betrunken neben einer Flasche Johnny Walker.\n“Heimsuchung” heißt die aktuelle Serie der international erfolgreichen Künstlerin Deborah Sengl: Engelsfiguren\, die wir als Glücksbringer in unserem Heim aufstellen\, entpuppen sich als genauso problembeladen\, traurig oder egoistisch\, wie wir selbst. Gesellschafts-strukturen und Phänomene unserer Zeit zu hinterfragen steht im Zentrum von Sengl‘s Arbeit. Ihre neuen Bilder werden nun erstmals in Niederösterreich zu sehen sein. \nAnna Doppler (*1991\, Tulln) beobachtet sehr genau. Sie nimmt Versatzstücke aus Landschaften\, setzt sie neu in Verbindung und entwickelt daraus ein eigenes Vokabular. Anna Doppler über ihre aktuelle Serie „Inseln“: „Die Menschen und ihre Lebensart prägen das Bild einer Landschaft. Jeder Ort\, an dem ich war\, ist die Gesamtheit aller Geschichten der Menschen\, die ich dort kennengelernt habe.“ \nJakob Schauer (*1990\, Wels) positioniert seine Klanginstallationen an die Schnittstelle von Musik und Bildender Kunst. Klang ist für ihn nicht ohne ein visuelles Gegenüber denkbar. Die Architektur\, die unseren Alltag prägt\, wird zur Spielfläche musikalischer Ereignisse. Mit „Windspiele“ bringt Jakob Schauer sein dreidimensionales Klang-Raum-Objekt in die Kunstfabrik. \n
URL:https://www.strawanzerin.at/termin/deborah-sengl-anna-doppler-jakob-schauer/
LOCATION:Kunstfabrik Groß Siegharts\, Karlsteiner Straße 4\, Groß-Siegharts\, Niederösterreich\, 3812\, Österreich
CATEGORIES:Ausstellung,Gratis,Kunst/Kultur,Niederösterreich
ATTACH;FMTTYPE=image/jpeg:https://www.strawanzerin.at/wp-content/uploads/2017/05/Heimsuchung_DonladTrump_small.jpg
ORGANIZER;CN="Kunstfabrik%20Gro%C3%9F%20Siegharts":MAILTO:kunstfabrik.gross.siegahrts@gmail.com
GEO:48.791901;15.4039756
X-APPLE-STRUCTURED-LOCATION;VALUE=URI;X-ADDRESS=Kunstfabrik Groß Siegharts Karlsteiner Straße 4 Groß-Siegharts Niederösterreich 3812 Österreich;X-APPLE-RADIUS=500;X-TITLE=Karlsteiner Straße 4:geo:15.4039756,48.791901
END:VEVENT
END:VCALENDAR