BEGIN:VCALENDAR
VERSION:2.0
PRODID:-//STRAWANZERIN - ECPv4.9.5//NONSGML v1.0//EN
CALSCALE:GREGORIAN
METHOD:PUBLISH
X-WR-CALNAME:STRAWANZERIN
X-ORIGINAL-URL:https://www.strawanzerin.at
X-WR-CALDESC:Veranstaltungen im STRAWANZERIN
BEGIN:VTIMEZONE
TZID:"Europe/Vienna"
BEGIN:DAYLIGHT
TZOFFSETFROM:+0100
TZOFFSETTO:+0200
TZNAME:CEST
DTSTART:20180325T010000
END:DAYLIGHT
BEGIN:STANDARD
TZOFFSETFROM:+0200
TZOFFSETTO:+0100
TZNAME:CET
DTSTART:20181028T010000
END:STANDARD
END:VTIMEZONE
BEGIN:VEVENT
DTSTART;TZID="Europe/Vienna":20180310T140000
DTEND;TZID="Europe/Vienna":20180310T180000
DTSTAMP:20260422T041055
CREATED:20180302T223006Z
LAST-MODIFIED:20180312T130132Z
UID:53227-1520690400-1520704800@www.strawanzerin.at
SUMMARY:DEMO: CREATIVES UNITE
DESCRIPTION:AUFRUF ZUR TEILNAHME AN „CREATIVES UNITE“ \nAm 10.März rufen wir zu CREATIVES UNITE auf! Einer Demo bei der wir in festlicher Stimmung durch die Wiener Innenstadt ziehen und auf die schwierige Situation der Kulturschaffenden aufmerksam machen wollen. Wir rufen alle kultur- und sozialpolitischen Akteur*innen sowie Kunstschaffende und Künstler*innen- Kollektive dazu auf daran teilzunehmen und uns gemeinsam für eine Verbesserung der Umstände stark zu machen.  \nKommt\, unterstützt unsere Initiative\, mobilisiert euer Netzwerk! \nZahlreiche Kollektive und Institutionen nehmen teil und haben uns ihre Unterstützung zugesichert. Wir fordern die gesamte Gesellschaft dazu auf Verantwortung für Kunst und Kultur zu übernehmen und in weiterer Folge das bedingungslose Grundeinkommen. Wir möchten eine breite Bewegung für die Finanzierung von Kunst und Kultur aufbauen!  \nWir fordern: \n-mehr Finanzierung\, Anerkennung und Unterstützung subkultureller Projekte\n-Wertschätzung von LGBTI\, Queer und feministischen Kulturprojekten\n-1€ pro Nächtigung für neuen Tourismus Kultur Fördertopf nach Berliner Modell\n-Österreichische Stiftungs Gesetze zu Gunsten von Kulturförderung reformieren\n-mehr Gesellschaftliche Partizipation #Mikromäzenatentum\n-Unterstützung der Kampagne: #paytheartistnow von IG Bildende Kunst\n-Unterstützung der Kampagne #istnötig\n-Bedingungsloses Grundeinkommen \nWir möchten einer möglichst breiten Masse bewusst machen\, dass ohne Selbstausbeutung ein Großteil der Kulturarbeit wegfallen würde. Nicht nur die Politik sondern die gesamte Gesellschaft trägt eine kulturelle Verantwortung die auch wahrgenommen werden muss. Unser Ansatz ist daher jener mit gezielten Kampagnen eine Bewegung zu schaffen die tatsächlich auch im Stande ist politischen Druck zu erzeugen. \nSei kreativ! Wir wollen die Vielfältigkeit der Szene in all ihren Facetten zeigen und in feierlicher Stimmung durch die Wiener Innenstadt ziehen. Instrumente\, Soundsysteme\, Kostüme\, künstlerisch gestaltete Banner etc…lass deiner Fantasie freien Lauf. \nGemeinsam können wir etwas bewegen!!! \nFolgende Route wurde mit der Polizeidirektion ausgemacht:  \nTreffpunkt: Platz der Menschenrechte\, MQ – Querung Museumsplatz – Maria-Theresien- Platz – Äußeres Burgtor – Heldenplatz – Innerer Burghof – Michaelerplatz – Kohlmarkt – Tuchlauben – Hoher Markt – Marc-Aurel-Straße – Salzgries –\nAbschluss: Concordiaplatz \nÜBER UNS \nDREISECHSFUENF ist ein junges\, transdisziplinäres Kunstfestival und ein breites Netzwerk an Kulturschaffenden\, das durch das Prinzip einer beschleunigten Ausstellungspraxis Verbindungen knüpft und Ressourcen teilt. Die Idee ist jene\, sich gegenseitig zu unterstützen um damit auch die Einzelnen zu entlasten.  \nMehr Informationen über uns findet ihr auf www.dreisechsfuenf.com. \n
URL:https://www.strawanzerin.at/termin/demo-creatives-unite/
LOCATION:MQ\, Platz der Menschenrechte\, Wien\, 1070\, Österreich
CATEGORIES:Kundgebung,Kunst/Kultur,Wien
ATTACH;FMTTYPE=image/jpeg:https://www.strawanzerin.at/wp-content/uploads/2018/03/27993126_1603667299711069_8667988073252478344_o.jpg
GEO:48.2027517;16.3468287
END:VEVENT
END:VCALENDAR