BEGIN:VCALENDAR
VERSION:2.0
PRODID:-//STRAWANZERIN - ECPv4.9.5//NONSGML v1.0//EN
CALSCALE:GREGORIAN
METHOD:PUBLISH
X-WR-CALNAME:STRAWANZERIN
X-ORIGINAL-URL:https://www.strawanzerin.at
X-WR-CALDESC:Veranstaltungen im STRAWANZERIN
BEGIN:VTIMEZONE
TZID:"Europe/Vienna"
BEGIN:DAYLIGHT
TZOFFSETFROM:+0100
TZOFFSETTO:+0200
TZNAME:CEST
DTSTART:20240331T010000
END:DAYLIGHT
BEGIN:STANDARD
TZOFFSETFROM:+0200
TZOFFSETTO:+0100
TZNAME:CET
DTSTART:20241027T010000
END:STANDARD
END:VTIMEZONE
BEGIN:VEVENT
DTSTART;TZID="Europe/Vienna":20241112T190000
DTEND;TZID="Europe/Vienna":20241112T190000
DTSTAMP:20260420T213908
CREATED:20240906T171951Z
LAST-MODIFIED:20240906T171951Z
UID:103083-1731438000-1731438000@www.strawanzerin.at
SUMMARY:Demokratie-Innovationen als Zukunftsmodell? // Vortrag
DESCRIPTION:Die repräsentative Demokratie gerät in vielen Staaten unter Druck. Auch in Österreich sinken Zufriedenheit und Vertrauen in demokratische Institutionen und Prozesse. Immer öfter wird über Alternativen nachgedacht. Manche gehen so weit\, sich eine starke Führungspersönlichkeit zu wünschen\, die sich nicht um das Parlament kümmert. Andere verweisen auf Innovationen wie Bürger*innen-Räte. Im Vortrag werden neue Konzepte der Demokratie vorgestellt und in ihrer Bedeutung für die politische Bildung diskutiert. \nMarkus Pausch\, Demokratieforscher\, Fachhochschule Salzburg \nIn Kooperation mit der ÖGPB – Österreichische Gesellschaft für Politische Bildung. \n
URL:https://www.strawanzerin.at/termin/demokratie-innovationen-als-zukunftsmodell-vortrag/
LOCATION:Depot – Kunst und Diskussion\, Breite Gasse 3\, Wien\, 1070\, Österreich
CATEGORIES:Bürger_innenrechte,Deutsch,Gratis,Vortrag/Symposium,Wien
ATTACH;FMTTYPE=image/jpeg:https://www.strawanzerin.at/wp-content/uploads/2024/09/K1A7085_c_Logo_Bureau_Kies-21-scaled.jpg
ORGANIZER;CN="Depot%20-%20Kunst%20und%20Diskussion":MAILTO:depot@depot.or.at
END:VEVENT
END:VCALENDAR