BEGIN:VCALENDAR
VERSION:2.0
PRODID:-//STRAWANZERIN - ECPv4.9.5//NONSGML v1.0//EN
CALSCALE:GREGORIAN
METHOD:PUBLISH
X-WR-CALNAME:STRAWANZERIN
X-ORIGINAL-URL:https://www.strawanzerin.at
X-WR-CALDESC:Veranstaltungen im STRAWANZERIN
BEGIN:VTIMEZONE
TZID:"Europe/Vienna"
BEGIN:DAYLIGHT
TZOFFSETFROM:+0100
TZOFFSETTO:+0200
TZNAME:CEST
DTSTART:20250330T010000
END:DAYLIGHT
BEGIN:STANDARD
TZOFFSETFROM:+0200
TZOFFSETTO:+0100
TZNAME:CET
DTSTART:20251026T010000
END:STANDARD
END:VTIMEZONE
BEGIN:VEVENT
DTSTART;TZID="Europe/Vienna":20250312T160000
DTEND;TZID="Europe/Vienna":20250312T180000
DTSTAMP:20260421T191043
CREATED:20240921T185101Z
LAST-MODIFIED:20240921T185101Z
UID:103677-1741795200-1741802400@www.strawanzerin.at
SUMMARY:Demokratisch streiten? Echt jetzt?
DESCRIPTION:Raus aus der Bubble\, rein in den Diskurs! Wer kennt das nicht? Austausch findet allzu oft in Echokammern statt; also mit Menschen\, die ohnehin gleich oder ähnlich denken. Doch ist das auf Dauer gut für die Gesellschaft? Eher nicht. Daher: Lass uns miteinander ins Gespräch kommen\, aber richtig!\nIm Rahmen von kostenlosen Workshops schaffen wir einen Raum für konstruktive Streitkultur\, um Demokratie interaktiv\, bunt und lebendig zu erfahren. Streiten ist erlaubt und Meinungsverschiedenheiten erwünscht! Um wieder richtig streiten zu lernen sind Neugierde und gegenseitige Anerkennung wichtig. \nDie Workshops sind kostenlos und alle sind eingeladen mitzumachen. Um Anmeldung wird gebeten (brigittenau@vhs.at).\nGefördert aus Mitteln der Österreichischen Gesellschaft für Politische Bildung. Die Workshops werden von Sapere Aude gehalten und moderiert. \n
URL:https://www.strawanzerin.at/termin/demokratisch-streiten-echt-jetzt/
LOCATION:Jugendzentrum Back Bone\, Pappenheimgasse 52\, Wien\, Wien\, 1200\, Österreich
CATEGORIES:Gratis,Wien,Workshop
ATTACH;FMTTYPE=image/jpeg:https://www.strawanzerin.at/wp-content/uploads/2024/09/DemokratischStreiten-2-scaled.jpg
ORGANIZER;CN="Die%20Wiener%20Volkshochschulen":MAILTO:petra.rath@vhs.at
END:VEVENT
END:VCALENDAR