BEGIN:VCALENDAR
VERSION:2.0
PRODID:-//STRAWANZERIN - ECPv4.9.5//NONSGML v1.0//EN
CALSCALE:GREGORIAN
METHOD:PUBLISH
X-WR-CALNAME:STRAWANZERIN
X-ORIGINAL-URL:https://www.strawanzerin.at
X-WR-CALDESC:Veranstaltungen im STRAWANZERIN
BEGIN:VTIMEZONE
TZID:"Europe/Paris"
BEGIN:DAYLIGHT
TZOFFSETFROM:+0100
TZOFFSETTO:+0200
TZNAME:CEST
DTSTART:20150329T010000
END:DAYLIGHT
BEGIN:STANDARD
TZOFFSETFROM:+0200
TZOFFSETTO:+0100
TZNAME:CET
DTSTART:20151025T010000
END:STANDARD
END:VTIMEZONE
BEGIN:VEVENT
DTSTART;TZID="Europe/Paris":20150511T200000
DTEND;TZID="Europe/Paris":20150511T210000
DTSTAMP:20260420T165900
CREATED:20150420T105458Z
LAST-MODIFIED:20150420T105458Z
UID:13996-1431374400-1431378000@www.strawanzerin.at
SUMMARY:DEPECHE MODE
DESCRIPTION:von Serhij Zhadan\, deutsch von Juri Durkot und Sabine Stöhr. In einer Bühnenfassung von Julia Burger und Anna Laner\nEine Produktion von reschen.see in Kooperation mit WERK X \nSerhij lebt in Charkiw\, nach Kiew der zweitgrößten Stadt der Ukraine. Seine Freunde Dog Pawlow\, Wasja Kommunist und Sascha Zündkerze leben eine Revolution\, Energien die sich in erster Linie gegen die Freunde selbst richten. Studium oder Arbeit sind zweitrangig\, an erster Stelle stehen der Konsum von Drogen und Alkohol.\nDog Pawlow\, Wasja Kommunist und Serhij erreicht die Nachricht\, dass Saschas Stiefvater sich erschossen hat und sie versuchen ihn zu finden\, um ihm diese Nachricht zu überbringen. Sie nützen ihre Kontakte in Charkiws Untergrund\, um Sascha Zündkerze ausfindig zu machen\, und begeben sich schließlich per Nahverkehrszug bis an die russische Grenze um ihn zu finden.\nDer Roman beschreibt fragmentarisch\, in einer beschleunigten Sprache und durch skurrile bis slapstikhafte Szenen junge Menschen in der ukrainischen Stadt Charkiw\, die ihren Platz im Leben noch nicht gefunden haben\, eine hungrige Suche führen nach dem großen Glück und der richtigen politischen Positionierung. „Depeche Mode“ ist Roadmovie und Zustandsbeschreibung eines sich im Umbruch befindenden Landes zugleich: führt mitten hinein in die Anarchie der postsowjetischen Umbruchszeit: beschreibt die letzte demokratische Jugend der Sowjetunion und die erste demokratische Jugend der unabhängigen Ukraine.\nInszenierung: Julia Burger\nBühne: Matthias Krische\nDramaturgische Mitarbeit: Anna Laner \nMit: Aleksandra Corovic\, Sven Kaschte\, Gideon Maoz\, Philipp Stix \n
URL:https://www.strawanzerin.at/termin/depeche-mode/2015-05-11/
LOCATION:WERK X-Eldorado\, Petersplatz 1\, Wien\, Wien\, 1010\, Österreich
CATEGORIES:Deutsch,Eintrittspreis,Theater/Kabarett,Wien
ATTACH;FMTTYPE=image/jpeg:https://www.strawanzerin.at/wp-content/uploads/2015/04/SergejSupinksi_AFP_GettyImages.jpg
ORGANIZER;CN="WERK%20X":MAILTO:buero@werk-x.at
GEO:48.2091048;16.3701238
X-APPLE-STRUCTURED-LOCATION;VALUE=URI;X-ADDRESS=WERK X-Eldorado Petersplatz 1 Wien Wien 1010 Österreich;X-APPLE-RADIUS=500;X-TITLE=Petersplatz 1:geo:16.3701238,48.2091048
END:VEVENT
END:VCALENDAR