BEGIN:VCALENDAR
VERSION:2.0
PRODID:-//STRAWANZERIN - ECPv4.9.5//NONSGML v1.0//EN
CALSCALE:GREGORIAN
METHOD:PUBLISH
X-WR-CALNAME:STRAWANZERIN
X-ORIGINAL-URL:https://www.strawanzerin.at
X-WR-CALDESC:Veranstaltungen im STRAWANZERIN
BEGIN:VTIMEZONE
TZID:"Europe/Vienna"
BEGIN:DAYLIGHT
TZOFFSETFROM:+0100
TZOFFSETTO:+0200
TZNAME:CEST
DTSTART:20240331T010000
END:DAYLIGHT
BEGIN:STANDARD
TZOFFSETFROM:+0200
TZOFFSETTO:+0100
TZNAME:CET
DTSTART:20241027T010000
END:STANDARD
END:VTIMEZONE
BEGIN:VEVENT
DTSTART;TZID="Europe/Vienna":20241203T160000
DTEND;TZID="Europe/Vienna":20241203T180000
DTSTAMP:20260421T011935
CREATED:20241118T132011Z
LAST-MODIFIED:20241118T132011Z
UID:104740-1733241600-1733248800@www.strawanzerin.at
SUMMARY:DER ANGST ENTGEGEN DICHTEN
DESCRIPTION:DER ANGST ENTGEGEN DICHTEN \nAugustin Geschichtenwerkstatt im Jüdischen Museum Wien \nAm 3. Dezember 2024 ist die Augustin Geschichtenwerkstatt zum zweiten Mal im Jüdischen Museum Wien zu Gast. Ausgehend von Bildern und Liedern in der neuen Ausstellung „Angst“ (06.11.2024 – 27.04.2025) sowie einladenden Impulsen der Schreibpädagogin Brigitta Höpler lassen wir uns inspirieren\, dichten gegen die Angst an und tauschen uns über unsere Texte aus. \n  \nDatum: 3. Dezember 2024\nOrt: Jüdisches Museum Wien\, Judenplatz 8\, 1010 Wien\nUhrzeit: 16:00-18:00 Uhr \nKosten: Gratis Eintritt für Augustin-Verkäufer:innen\, regulärer oder ermäßigter Eintritt für weitere Teilnehmende. Der Museumseintritt kommt dem Augustin zu Gute. \nAnmeldung: Über den Veranstaltungskalender des JMW oder tours@jmw.at \nhttps://www.jmw.at/ \nhttps://augustin.or.at/der-angst-entgegen-dichten/ \n  \nFoto: © www.nafezrerhuf.com \n
URL:https://www.strawanzerin.at/termin/der-angst-entgegen-dichten/
LOCATION:Museum Judenplatz – Jüdisches Museum\, Judenplatz 8\, Wien\, Wien\, 1010\, Österreich
CATEGORIES:Literatur,Wien
ATTACH;FMTTYPE=image/jpeg:https://www.strawanzerin.at/wp-content/uploads/2024/11/Ausstellungsdokumentation-Angst-03-c-www.nafezrerhuf.com_web.jpg
END:VEVENT
END:VCALENDAR