BEGIN:VCALENDAR
VERSION:2.0
PRODID:-//STRAWANZERIN - ECPv4.9.5//NONSGML v1.0//EN
CALSCALE:GREGORIAN
METHOD:PUBLISH
X-WR-CALNAME:STRAWANZERIN
X-ORIGINAL-URL:https://www.strawanzerin.at
X-WR-CALDESC:Veranstaltungen im STRAWANZERIN
BEGIN:VTIMEZONE
TZID:"Europe/Vienna"
BEGIN:DAYLIGHT
TZOFFSETFROM:+0100
TZOFFSETTO:+0200
TZNAME:CEST
DTSTART:20240331T010000
END:DAYLIGHT
BEGIN:STANDARD
TZOFFSETFROM:+0200
TZOFFSETTO:+0100
TZNAME:CET
DTSTART:20241027T010000
END:STANDARD
END:VTIMEZONE
BEGIN:VEVENT
DTSTART;TZID="Europe/Vienna":20241119T193000
DTEND;TZID="Europe/Vienna":20241119T223000
DTSTAMP:20260421T001705
CREATED:20240927T143014Z
LAST-MODIFIED:20240927T143014Z
UID:103823-1732044600-1732055400@www.strawanzerin.at
SUMMARY:Der automobile Mensch 2: Stadt ohne Auto?
DESCRIPTION:Die GBW Wien den aufschlussreichen und provokanten Film „Der automobile Mensch 2: Stadt ohne Auto?“ Der Film präsentiert erfolgreiche Beispiele aus Österreich\, Deutschland\, der Schweiz und anderen Ländern und beleuchtet die Interessen hinter dem „System Auto“. Wusstest du\, dass die Menschen in Bremen dreimal so viel Radfahren wie in Wien? Oder dass Zürich sogar den Sperrmüll mit der Straßenbahn abholt? Der Film zeigt\, wie Städte ihren Verkehr verändern – oder es nur behaupten.\nEintritt frei\, Anmeldung erforderlich: https://www.gbw.at/veranstaltungen/registrierung/der-automobile-mensch-2-stadt-ohne-auto \nIm Anschluss an den Film findet eine Diskussion mit dem Filmemacher Reinhard Seiß\, der Obfrau der GBW Elisabeth Kittl\, dem Planungsexperten Harald Frey\, dem a.D. Gemeinderat Rüdiger Maresch und der Landtagsabgeordneten Heidi Sequenz statt. \n
URL:https://www.strawanzerin.at/termin/der-automobile-mensch-2-stadt-ohne-auto/
LOCATION:Votiv Kino\, Währinger Straße 12\, Wien\, Wien\, 1090\, Österreich
CATEGORIES:Deutsch,Film
ATTACH;FMTTYPE=image/jpeg:https://www.strawanzerin.at/wp-content/uploads/2024/09/043-DE-Langeoog-cut-FINAL-Ausspielung-scaled.jpg
ORGANIZER;CN="Gr%C3%BCne%20Bildungswerkstatt%20Wien":MAILTO:info.wien@gbw.at
GEO:48.2167563;16.3599272
X-APPLE-STRUCTURED-LOCATION;VALUE=URI;X-ADDRESS=Votiv Kino Währinger Straße 12 Wien Wien 1090 Österreich;X-APPLE-RADIUS=500;X-TITLE=Währinger Straße 12:geo:16.3599272,48.2167563
END:VEVENT
END:VCALENDAR