BEGIN:VCALENDAR
VERSION:2.0
PRODID:-//STRAWANZERIN - ECPv4.9.5//NONSGML v1.0//EN
CALSCALE:GREGORIAN
METHOD:PUBLISH
X-WR-CALNAME:STRAWANZERIN
X-ORIGINAL-URL:https://www.strawanzerin.at
X-WR-CALDESC:Veranstaltungen im STRAWANZERIN
BEGIN:VTIMEZONE
TZID:"Europe/Helsinki"
BEGIN:DAYLIGHT
TZOFFSETFROM:+0200
TZOFFSETTO:+0300
TZNAME:EEST
DTSTART:20150329T010000
END:DAYLIGHT
BEGIN:STANDARD
TZOFFSETFROM:+0300
TZOFFSETTO:+0200
TZNAME:EET
DTSTART:20151025T010000
END:STANDARD
END:VTIMEZONE
BEGIN:VEVENT
DTSTART;TZID="Europe/Helsinki":20150425T200000
DTEND;TZID="Europe/Helsinki":20150430T200000
DTSTAMP:20260422T021936
CREATED:20150317T180034Z
LAST-MODIFIED:20150319T110822Z
UID:12562-1429992000-1430424000@www.strawanzerin.at
SUMMARY:Der diskrete Charme der smarten Menschen
DESCRIPTION:Ausgehend von Luis Buñuels Film „Der diskrete Charme der Bourgeoisie“ entwickelt Ed. Hauswirth mit dem TAG-Ensemble eine Salonkomödie über die Werte des kreativen Mittelstands einer heutigen Großstadt wie Wien. \nWelche Surrealität wohnt eigentlich unseren Wertvorstellungen und Verhaltensweisen inne? Wir\, die wir nicht im Krieg waren\, bevorzugt biologisch essen\, für Pussy Riot auf Facebook posten und unser Geld mit einer einigermaßen erfüllenden Tätigkeit verdienen\, gleichzeitig aber den größer werdenden Druck von außen mehr oder weniger erfolgreich verdrängen. \nDie Grundsituation: eine Gruppe von Menschen\, die sich regelmäßig zum Essen trifft. Narrative Elemente aus Buñuels Film werden in unsere Lebensrealität übersetzt. Originalzitate aus Interviews mit Menschen des kreativen Mittelstands stehen fiktiven Elementen aus alltäglichen Erzählungen\, Gerüchten und Traumerzählungen gegenüber. Dabei sollen Antworten auf die surrealen Überhöhungen Buñuels aus einer gegenwärtigen Logik gefunden werden. Die gelebte Verbürgerlichung im Kontrast zum neurotischen Bedürfnis\, Engagement zu demonstrieren. Ein Widerspruch? Nein – ein Versuch\, das Lebensgefühl einer Generation darzustellen. \n
URL:https://www.strawanzerin.at/termin/der-diskrete-charme-der-smarten-menschen-5/
LOCATION:Österreich
CATEGORIES:ab 7,Deutsch,Theater/Kabarett,Wien
ATTACH;FMTTYPE=:
ORGANIZER;CN="TAG%20-%20Theater%20an%20der%20Gumpendorfer%20Stra%C3%9Fe":MAILTO:karten@dastag.at
END:VEVENT
END:VCALENDAR