BEGIN:VCALENDAR
VERSION:2.0
PRODID:-//STRAWANZERIN - ECPv4.9.5//NONSGML v1.0//EN
CALSCALE:GREGORIAN
METHOD:PUBLISH
X-WR-CALNAME:STRAWANZERIN
X-ORIGINAL-URL:https://www.strawanzerin.at
X-WR-CALDESC:Veranstaltungen im STRAWANZERIN
BEGIN:VTIMEZONE
TZID:"Europe/Paris"
BEGIN:DAYLIGHT
TZOFFSETFROM:+0100
TZOFFSETTO:+0200
TZNAME:CEST
DTSTART:20150329T010000
END:DAYLIGHT
BEGIN:STANDARD
TZOFFSETFROM:+0200
TZOFFSETTO:+0100
TZNAME:CET
DTSTART:20151025T010000
END:STANDARD
END:VTIMEZONE
BEGIN:VEVENT
DTSTART;TZID="Europe/Paris":20150501T200000
DTEND;TZID="Europe/Paris":20150502T200000
DTSTAMP:20260422T040404
CREATED:20150416T155445Z
LAST-MODIFIED:20150416T155445Z
UID:13544-1430510400-1430596800@www.strawanzerin.at
SUMMARY:Der diskrete Charme der smarten Menschen
DESCRIPTION:Uraufführung\nEine Salonkomödie von Ed. Hauswirth und dem TAG\nFrei nach dem Film „Der diskrete Charme der Bourgeoisie“ von Luis Buñuel \nVORSTELLUNGEN\nSA 25.\, MO 27. + DO 30.4.2015\, 20.00\nFR 1. + SA 2.5.2015\, 20.00\nGASTSPIEL IM THEATER MEGGENHOFEN DO 11.6.2015\, 20.30 \nAusgehend von Luis Buñuels Film „Der diskrete Charme der Bourgeoisie“ entwickelt Ed. Hauswirth mit dem TAG-Ensemble eine Salonkomödie über die Werte des kreativen Mittelstands einer heutigen Großstadt wie Wien. \nWelche Surrealität wohnt eigentlich unseren Wertvorstellungen und Verhaltensweisen inne? Wir\, die wir nicht im Krieg waren\, bevorzugt biologisch essen\, für Pussy Riot auf Facebook posten und unser Geld mit einer einigermaßen erfüllenden Tätigkeit verdienen\, gleichzeitig aber den größer werdenden Druck von außen mehr oder weniger erfolgreich verdrängen. \nDie Grundsituation: eine Gruppe von Menschen\, die sich regelmäßig zum Essen trifft. Narrative Elemente aus Buñuels Film werden in unsere Lebensrealität übersetzt. Originalzitate aus Interviews mit Menschen des kreativen Mittelstands stehen fiktiven Elementen aus alltäglichen Erzählungen\, Gerüchten und Traumerzählungen gegenüber. Dabei sollen Antworten auf die surrealen Überhöhungen Buñuels aus einer gegenwärtigen Logik gefunden werden. Die gelebte Verbürgerlichung im Kontrast zum neurotischen Bedürfnis\, Engagement zu demonstrieren. Ein Widerspruch? Nein – ein Versuch\, das Lebensgefühl einer Generation darzustellen. \nDAUER DER VORSTELLUNG ca. 110 Minuten \n
URL:https://www.strawanzerin.at/termin/der-diskrete-charme-der-smarten-menschen-6/
LOCATION:TAG – Theater an der Gumpendorfer Straße\, Gumpendorfer Straße 67\, Wien\, Wien\, 1060\, Österreich
CATEGORIES:ab 7,Deutsch,Kunst/Kultur,Theater/Kabarett,Wien
ATTACH;FMTTYPE=:
ORGANIZER;CN="TAG%20-%20Theater%20an%20der%20Gumpendorfer%20Stra%C3%9Fe":MAILTO:karten@dastag.at
GEO:48.1954875;16.3512933
X-APPLE-STRUCTURED-LOCATION;VALUE=URI;X-ADDRESS=TAG – Theater an der Gumpendorfer Straße Gumpendorfer Straße 67 Wien Wien 1060 Österreich;X-APPLE-RADIUS=500;X-TITLE=Gumpendorfer Straße 67:geo:16.3512933,48.1954875
END:VEVENT
END:VCALENDAR