BEGIN:VCALENDAR
VERSION:2.0
PRODID:-//STRAWANZERIN - ECPv4.9.5//NONSGML v1.0//EN
CALSCALE:GREGORIAN
METHOD:PUBLISH
X-WR-CALNAME:STRAWANZERIN
X-ORIGINAL-URL:https://www.strawanzerin.at
X-WR-CALDESC:Veranstaltungen im STRAWANZERIN
BEGIN:VTIMEZONE
TZID:"Europe/Vienna"
BEGIN:DAYLIGHT
TZOFFSETFROM:+0100
TZOFFSETTO:+0200
TZNAME:CEST
DTSTART:20230326T010000
END:DAYLIGHT
BEGIN:STANDARD
TZOFFSETFROM:+0200
TZOFFSETTO:+0100
TZNAME:CET
DTSTART:20231029T010000
END:STANDARD
END:VTIMEZONE
BEGIN:VEVENT
DTSTART;TZID="Europe/Vienna":20230614T160000
DTEND;TZID="Europe/Vienna":20230614T183000
DTSTAMP:20260423T105820
CREATED:20230511T142835Z
LAST-MODIFIED:20230521T181559Z
UID:91475-1686758400-1686767400@www.strawanzerin.at
SUMMARY:Der DNA auf der Spur – eine kleine Reise in unseren Körper (6-9 Jahre)
DESCRIPTION:Wieso haben manche Menschen blaue und manche braune Augen\, warum werden wir unterschiedlich groß? Diese und noch viele andere Informationen sind in klitzekleinen Teilchen in unserem Körper gespeichert: der DNA. Sie ist das Rezept\, das unserem Körper die Anleitung gibt\, wie er aufgebaut ist und funktioniert. Aber wie sieht die DNA eigentlich aus und wie kommen die Informationen aus der Zelle? Wir machen eine faszinierende Reise in den Körper des Menschen und gehen mit spannenden Experimenten und Workshops der DNA auf der Spur. \n
URL:https://www.strawanzerin.at/termin/der-dna-auf-der-spur-eine-kleine-reise-in-unseren-koerper-6-9-jahre/
LOCATION:VHS Wiener Urania\, Uraniastraße 1\, Wien\, Wien\, 1010\, Österreich
ATTACH;FMTTYPE=image/jpeg:https://www.strawanzerin.at/wp-content/uploads/2023/05/20060719_Wiener-Urania-c-VHS-Wiener-Urania_KLEINER-16.jpg
ORGANIZER;CN="VHS%20Wiener%20Urania":MAILTO:urania@vhs.at
END:VEVENT
END:VCALENDAR