BEGIN:VCALENDAR
VERSION:2.0
PRODID:-//STRAWANZERIN - ECPv4.9.5//NONSGML v1.0//EN
CALSCALE:GREGORIAN
METHOD:PUBLISH
X-WR-CALNAME:STRAWANZERIN
X-ORIGINAL-URL:https://www.strawanzerin.at
X-WR-CALDESC:Veranstaltungen im STRAWANZERIN
BEGIN:VTIMEZONE
TZID:"Europe/Vienna"
BEGIN:DAYLIGHT
TZOFFSETFROM:+0100
TZOFFSETTO:+0200
TZNAME:CEST
DTSTART:20250330T010000
END:DAYLIGHT
BEGIN:STANDARD
TZOFFSETFROM:+0200
TZOFFSETTO:+0100
TZNAME:CET
DTSTART:20251026T010000
END:STANDARD
END:VTIMEZONE
BEGIN:VEVENT
DTSTART;TZID="Europe/Vienna":20250130T160000
DTEND;TZID="Europe/Vienna":20250130T171500
DTSTAMP:20260420T194617
CREATED:20250123T071608Z
LAST-MODIFIED:20250123T071608Z
UID:105620-1738252800-1738257300@www.strawanzerin.at
SUMMARY:Der Donauwalzer - Marionettentheater erzählt Sage vom »Donauweibchen« mit Musik des Walzerkönigs
DESCRIPTION:Im Winter verwandelt sich die Bühne des Marionettentheaters Schloss Schönbrunn in eine Landschaft an der Donau. Dort steht das Haus\, in dem Johann Strauss Vater aufgewachsen ist. Dessen Sohn hat dem Fluss durch seinen weltberühmten Walzer ein musikalisches Denkmal gesetzt. In dem familienfreundlichen Stück für Kinder ab 4 Jahren erfahren der Walzerkönig und seine Frau Jetty die Legende vom »Donauweibchen«. Die märchenhaft anmutende Geschichte gipfelt in dem Musikstück »An der schönen blauen Donau« und dem Tanz der sagenumwobenen Donaunixen. \nDas Textbuch und die Stimme des Erzählers stammen von Prof. Gerhard Tötschinger. \nInfo:\nTel. +43 1 817 32 47 \nBild: Johann Strauss und Donaunixe\, Foto/© Marionettentheater Schloss Schönbrunn \n
URL:https://www.strawanzerin.at/termin/der-donauwalzer-marionettentheater-erzaehlt-sage-vom-donauweibchen-mit-musik-des-walzerkoenigs/
LOCATION:Marionettentheater Schloss Schönbrunn\, Hofratstrakt\, 1130 Wien\, Wien\, 1130\, Österreich
CATEGORIES:ab 7,Kinderkultur,Theater/Kabarett,Wien
ATTACH;FMTTYPE=image/jpeg:https://www.strawanzerin.at/wp-content/uploads/2025/01/Der-Donauwalzer_Johann-Strauss-3-Kopie.jpg
GEO:48.185952;16.3159428
X-APPLE-STRUCTURED-LOCATION;VALUE=URI;X-ADDRESS=Marionettentheater Schloss Schönbrunn Hofratstrakt 1130 Wien Wien 1130 Österreich;X-APPLE-RADIUS=500;X-TITLE=Hofratstrakt\, 1130 Wien:geo:16.3159428,48.185952
END:VEVENT
END:VCALENDAR