BEGIN:VCALENDAR
VERSION:2.0
PRODID:-//STRAWANZERIN - ECPv4.9.5//NONSGML v1.0//EN
CALSCALE:GREGORIAN
METHOD:PUBLISH
X-WR-CALNAME:STRAWANZERIN
X-ORIGINAL-URL:https://www.strawanzerin.at
X-WR-CALDESC:Veranstaltungen im STRAWANZERIN
BEGIN:VTIMEZONE
TZID:"Europe/Vienna"
BEGIN:DAYLIGHT
TZOFFSETFROM:+0100
TZOFFSETTO:+0200
TZNAME:CEST
DTSTART:20200329T010000
END:DAYLIGHT
BEGIN:STANDARD
TZOFFSETFROM:+0200
TZOFFSETTO:+0100
TZNAME:CET
DTSTART:20201025T010000
END:STANDARD
END:VTIMEZONE
BEGIN:VEVENT
DTSTART;TZID="Europe/Vienna":20200904T193000
DTEND;TZID="Europe/Vienna":20200904T214500
DTSTAMP:20260419T193533
CREATED:20200812T114425Z
LAST-MODIFIED:20200812T114425Z
UID:74885-1599247800-1599255900@www.strawanzerin.at
SUMMARY:»Der Hexer« geht in Kottingbrunn um
DESCRIPTION:Trotz der noch andauernden Corona-Situation hat sich die Kulturszene Kottingbrunn entschlossen\, das heurige Septembertheater unter Einhaltung sämtlicher COVID-19-Bestimmungen durchzuführen. Diesmal hat Regisseur Anselm Lipgens die aberwitzige Krimikomödie nach den Büchern von Edgar Wallace auf den Spielplan gesetzt. Schließlich kann und soll Theater den Alltag vergessen machen und Freude verbreiten. »Der Hexer« bietet eine hochprozentige Mischung aus Sinn und Unsinn\, Skrupellosigkeit und Raffinesse\, Ganovenehre und Spürnasenromantik. Es spielen Georg Kusztrich\, Sam Madwar\, Franz Schiefer u.v.a. \nPremiere:\nFreitag\, 4. September 2020\, 19.30 Uhr \nWeitere Vorstellungen:\nBis 27. September 2020\, FR & SA 19:30 Uhr\, SO 18:00 Uhr \nInfo:\nTel.: 02252 74383 \nBild: Das Ensemble von »Der Hexer« in der Kulturszene Kottingbrunn\, Foto/© Harald Brutti \n
URL:https://www.strawanzerin.at/termin/der-hexer-geht-in-kottingbrunn-um/2020-09-04/
LOCATION:Kulturszene Kottingbrunn\, Schloss 1\, 2542 Kottingbrunn \, Kottingbrunn\, 2542\, Österreich
CATEGORIES:ab 7,Niederösterreich,Theater/Kabarett
ATTACH;FMTTYPE=image/jpeg:https://www.strawanzerin.at/wp-content/uploads/2020/08/GruppenfotoMSM_DerHexer_KSK_CHaraldBrutti-Kopie.jpg
GEO:47.9511536;16.2305035
X-APPLE-STRUCTURED-LOCATION;VALUE=URI;X-ADDRESS=Kulturszene Kottingbrunn Schloss 1 2542 Kottingbrunn  Kottingbrunn 2542 Österreich;X-APPLE-RADIUS=500;X-TITLE=Schloss 1\, 2542 Kottingbrunn:geo:16.2305035,47.9511536
END:VEVENT
END:VCALENDAR