BEGIN:VCALENDAR
VERSION:2.0
PRODID:-//STRAWANZERIN - ECPv4.9.5//NONSGML v1.0//EN
CALSCALE:GREGORIAN
METHOD:PUBLISH
X-WR-CALNAME:STRAWANZERIN
X-ORIGINAL-URL:https://www.strawanzerin.at
X-WR-CALDESC:Veranstaltungen im STRAWANZERIN
BEGIN:VTIMEZONE
TZID:"Europe/Vienna"
BEGIN:DAYLIGHT
TZOFFSETFROM:+0100
TZOFFSETTO:+0200
TZNAME:CEST
DTSTART:20200329T010000
END:DAYLIGHT
BEGIN:STANDARD
TZOFFSETFROM:+0200
TZOFFSETTO:+0100
TZNAME:CET
DTSTART:20201025T010000
END:STANDARD
END:VTIMEZONE
BEGIN:VEVENT
DTSTART;TZID="Europe/Vienna":20201003T190000
DTEND;TZID="Europe/Vienna":20201003T203000
DTSTAMP:20260419T193841
CREATED:20201001T110142Z
LAST-MODIFIED:20201007T114714Z
UID:75749-1601751600-1601757000@www.strawanzerin.at
SUMMARY:DER KUNSTREIGEN
DESCRIPTION:KünstlerInnen\, aus der literatur\,Tanz\,Gesang und Musik zeiegen ihr Können und gestalten einen  BUNTEN ABEND.Der Abend ist als Tier-Charity ausgewiesen.Kein Eintritt.Spendeb  sind möglich.Platzreservierung erbeten:o office@teamomega.org Regie u.Organisation Brigitte Martzak\, Grafik Stefan Olf \nFindet BEIM FRIEDRICH\, Thaliastrasse 12\, 1160 WIEN statt \n
URL:https://www.strawanzerin.at/termin/der-kunstreigen/
LOCATION:Wien\, Wien\, Österreich
CATEGORIES:Kunst/Kultur
ATTACH;FMTTYPE=image/jpeg:https://www.strawanzerin.at/wp-content/uploads/2020/10/Flyer-2020_rueckseite.jpg
ORGANIZER;CN="VEREIN%20F%C3%9CR%20KUNST%20LEBEN%20UND%20NATUR":MAILTO:office@teamomega.org
END:VEVENT
END:VCALENDAR