BEGIN:VCALENDAR
VERSION:2.0
PRODID:-//STRAWANZERIN - ECPv4.9.5//NONSGML v1.0//EN
CALSCALE:GREGORIAN
METHOD:PUBLISH
X-WR-CALNAME:STRAWANZERIN
X-ORIGINAL-URL:https://www.strawanzerin.at
X-WR-CALDESC:Veranstaltungen im STRAWANZERIN
BEGIN:VTIMEZONE
TZID:"Europe/Vienna"
BEGIN:DAYLIGHT
TZOFFSETFROM:+0100
TZOFFSETTO:+0200
TZNAME:CEST
DTSTART:20180325T010000
END:DAYLIGHT
BEGIN:STANDARD
TZOFFSETFROM:+0200
TZOFFSETTO:+0100
TZNAME:CET
DTSTART:20181028T010000
END:STANDARD
END:VTIMEZONE
BEGIN:VEVENT
DTSTART;TZID="Europe/Vienna":20180517T190000
DTEND;TZID="Europe/Vienna":20180517T210000
DTSTAMP:20260421T024243
CREATED:20180426T110650Z
LAST-MODIFIED:20180503T063814Z
UID:55193-1526583600-1526590800@www.strawanzerin.at
SUMMARY:Der lange Schatten von 1948. Die umkämpfte Geschichte Israels und Palästinas
DESCRIPTION:– – – – – – – – – – – – ENGLISH VERSION BELOW – – – – – – – – – – – – –\nPODIUM \n– Hazar Hijazi\, Mitbegründerin der feministischen Bewegung Falastinyyat\n– Nidaa‘ Nassar\, Baladna Association for Arab Youth\, Haifa\n– Eyal Sivan\, Dokumentarfilmer\, Paris (angefragt) \nModeration: Helmut Krieger\, Universität Wien/VIDC\nEröffnung;: Magda Seewald\, VIDC \nVeranstaltungssprachen: Englisch und Deutsch mit Simultandolmetschung \nAnmeldung: seewald@vidc.org\nEintritt: kostenlos\nfacebook: https://www.facebook.com/events/364926000669224/ \nHINTERGRUND \nMit den seit Ende März begonnenen Demonstrationen im Gazastreifen rückt der 70. Jahrestag der Staatgründung Israels am 14. Mai wieder ins Zentrum internationaler Aufmerksamkeit\, da bei diesen Demonstrationen das Rückkehrrecht der Geflüchteten von 1948 und ihrer Nachkommen eingefordert wird. Bislang wurden dabei tausende Palästinenser_innen verletzt und mehr als 30 Menschen von der israelischen Armee erschossen.\nWährend das offizielle Israel das Datum der Staatsgründung feierlich begeht\, erinnert die „Nakba“ (dt. Katastrophe) an die Vertreibung und/oder Flucht von mehr als 750.000 Palästinenser_innen aus dem historischen Palästina im Jahr 1948. Der Jahrestag stellt somit einen Eckpfeiler einer umkämpften Geschichte dar\, die kaum Spielraum für die Entwicklung gemeinsamer Narrative bereithält. Damit stellt sich die Herausforderung\, auf welche Weise jene Geschichte aus der Perspektive von Marginalisierten geschrieben werden kann. \nWie ist die Nakba in der gegenwärtigen israelischen Gesellschaft präsent? Inwiefern lassen sich die Ereignisse von 1948 mit der aufrechten Besatzung der palästinensischen Gebiete durch den israelischen Staat vereinbaren? Wie gehen heutige Aktivist_innen und Intellektuelle mit dieser umkämpften Geschichte um? Was wären grundlegende Elemente einer gemeinsamen Erzählung der Geschichte von 1948? \nCopyright Veranstaltungsfoto: © istock/joel carillet \n– – – – – – – – – – – – – ENGLISH VERSION – – – – – – – – – – – – – – – \nThe long Shadow of 1948. The contested history of Israel and Palestine \nPANEL \n– Hazar Hijazi\, cofounder of the feminist movement Falastinyyat\n– Nidaa‘ Nassar\, director of Baladna Association for Arab Youth\, Haifa\n– Eyal Sivan\, documentary filmmaker\, Paris (tbc) \nChair: Helmut Krieger\, University of Vienna/VIDC\nOpening: Magda Seewald\, VIDC \nLanguages: English and German with simultaneous interpretation \nRegistration: seewald@vidc.org\nEntry: free\nfacebook: https://www.facebook.com/events/364926000669224/ \nBACKGROUND \nThe demonstrations in Gaza\, that have started at the end of March have turned the focus of international attention on the 70th anniversary of the founding of the state of Israel on 14 May\, as these demonstrations call for the right of return for the refugees of 1948 and their descendants. So far\, thousands of Palestinians have been injured and more than 30 people were shot dead by the Israeli army.\nWhile official Israel celebrates its founding date\, the ‚Nakba‘ (catastrophe) commemorates the expulsion and/or flight of more than 750\,000 Palestinians from historic Palestine in 1948. The anniversary thus represents a cornerstone of a contested history which leaves little scope for the development of common narratives. This poses the challenge of how that history can be written from the perspective of the marginalized. \nIn which way is the Nakba present in contemporary Israeli society? How can the events of 1948 be linked to the ongoing occupation of the Palestinian territories by the Israeli state? How do today’s activists and intellectuals deal with this contested history? What could be basic elements of a common narrative about the history of 1948? \nCopyright event photo: © istock/joel carillet \n
URL:https://www.strawanzerin.at/termin/der-lange-schatten-von-1948-die-umkaempfte-geschichte-israels-und-palaestinas/
LOCATION:Diplomatische Akademie (Wien)\, Favoritenstraße 15a\, Wien\, Wien\, 1040 \, Österreich
CATEGORIES:Deutsch,Englisch,Gratis,Vortrag/Symposium,Wien
ATTACH;FMTTYPE=image/jpeg:https://www.strawanzerin.at/wp-content/uploads/2018/04/VA_Foto_Cistock_Joel-Carillet.jpg
GEO:48.1942176;16.3703657
X-APPLE-STRUCTURED-LOCATION;VALUE=URI;X-ADDRESS=Diplomatische Akademie (Wien) Favoritenstraße 15a Wien Wien 1040  Österreich;X-APPLE-RADIUS=500;X-TITLE=Favoritenstraße 15a:geo:16.3703657,48.1942176
END:VEVENT
END:VCALENDAR