BEGIN:VCALENDAR
VERSION:2.0
PRODID:-//STRAWANZERIN - ECPv4.9.5//NONSGML v1.0//EN
CALSCALE:GREGORIAN
METHOD:PUBLISH
X-WR-CALNAME:STRAWANZERIN
X-ORIGINAL-URL:https://www.strawanzerin.at
X-WR-CALDESC:Veranstaltungen im STRAWANZERIN
BEGIN:VTIMEZONE
TZID:"Europe/Vienna"
BEGIN:DAYLIGHT
TZOFFSETFROM:+0100
TZOFFSETTO:+0200
TZNAME:CEST
DTSTART:20250330T010000
END:DAYLIGHT
BEGIN:STANDARD
TZOFFSETFROM:+0200
TZOFFSETTO:+0100
TZNAME:CET
DTSTART:20251026T010000
END:STANDARD
END:VTIMEZONE
BEGIN:VEVENT
DTSTART;TZID="Europe/Vienna":20250616T190000
DTEND;TZID="Europe/Vienna":20250616T210000
DTSTAMP:20260422T120248
CREATED:20250612T103307Z
LAST-MODIFIED:20250612T103307Z
UID:108182-1750100400-1750107600@www.strawanzerin.at
SUMMARY:Der lange Winter der Migration – Lesung
DESCRIPTION:Zehn Jahre ist es her\, dass Selbstbestimmung und politischer Kampf\, Durchhaltevermögen und kollektive Energie zum »Sommer der Migration« geführt haben\, der Europa nachhaltig veränderte. Aus diesem Anlass haben fünf Schriftsteller:innen\, die um 2015 aus Syrien\, Afghanistan und Iran in den deutschsprachigen Literaturraum gekommen sind\, Erzählungen und Essays verfasst. In der soeben in der Edition PEN im Korrektur Verlag erschienenen Anthologie „Der lange Winter der Migration – Erzählungen\, Comedy\, Essays“ sind diese Texte in drei Sprachen (Arabisch\, Farsi\, Deutsch) zu lesen. \nDas Buch ist dem 2022 mit nur 32 Jahren verstorbenen Schriftsteller Jad Turjman\, gewidmet\, dessen Comedy-Programm „Der Flüchtling Ihres Vertrauens“ darin nun erstmals verschriftlicht ist. \nMit Texten von Rasha Abbas\, Hamed Abboud\, Pooyan Moghaddassi\, Widad Nabi\, Asiyeh Panahi und Jad Turjman\, einem Vorwort von Marion Wisinger (PEN Austria) und einem Nachwort der Herausgeberinnen. \nAlle Autor:innen und die Herausgeber:innen lesen in drei Sprachen aus der Anthologie.\nBüchertisch: Buchhandlung Lauf\, Braunau\nIm Anschluss internationales Buffet. \n
URL:https://www.strawanzerin.at/termin/der-lange-winter-der-migration-lesung/
LOCATION:ZIMT – Zentrum für Interkulturalität\, Miteinander und Teilhabe\, Kaserngasse 2\, Braunau am Inn\, Oberösterreich\, 5280\, Österreich
CATEGORIES:Arabisch,Deutsch,Essen/Vokü,Farsi,Gratis,Literatur,Oberösterreich,Transnational
ATTACH;FMTTYPE=image/jpeg:https://www.strawanzerin.at/wp-content/uploads/2025/06/FdR-ZIMT-Plakat-Lesung-16.6.2025-scaled.jpg
ORGANIZER;CN="ZIMT%20-%20Zentrum%20f%C3%BCr%20Interkulturalit%C3%A4t%2C%20Miteinander%20und%20Teilhabe":MAILTO:daniela.auer@braunau.ooe.gv.at
END:VEVENT
END:VCALENDAR