BEGIN:VCALENDAR
VERSION:2.0
PRODID:-//STRAWANZERIN - ECPv4.9.5//NONSGML v1.0//EN
CALSCALE:GREGORIAN
METHOD:PUBLISH
X-WR-CALNAME:STRAWANZERIN
X-ORIGINAL-URL:https://www.strawanzerin.at
X-WR-CALDESC:Veranstaltungen im STRAWANZERIN
BEGIN:VTIMEZONE
TZID:"Europe/Vienna"
BEGIN:DAYLIGHT
TZOFFSETFROM:+0100
TZOFFSETTO:+0200
TZNAME:CEST
DTSTART:20240331T010000
END:DAYLIGHT
BEGIN:STANDARD
TZOFFSETFROM:+0200
TZOFFSETTO:+0100
TZNAME:CET
DTSTART:20241027T010000
END:STANDARD
END:VTIMEZONE
BEGIN:VEVENT
DTSTART;TZID="Europe/Vienna":20241119T200000
DTEND;TZID="Europe/Vienna":20241119T220000
DTSTAMP:20260420T212857
CREATED:20241011T161157Z
LAST-MODIFIED:20241011T161157Z
UID:104026-1732046400-1732053600@www.strawanzerin.at
SUMMARY:»Der letzte der feurigen Liebhaber« in der Komödie am Kai
DESCRIPTION:In diesem Geniestreich vom „Meister der Komödie“ Neil Simon schlüpft Rochus Millauer in die Rolle des Berti Schinnagl\, dessen erotische Erfahrungen sich ausschließlich auf eine jahrzehntelange Ehe mit seiner grundanständigen Jugendliebe beschränken. Jetzt\, im fortgeschrittenen Alter\, möchte der Familienvater etwas Aufregendes erleben. Aber nicht nur wählt er als Liebesnest ausgerechnet die Wohnung seiner Mutter. Auch durch seine eher unglückliche Damenwahl ist das Fiasko vorprogrammiert. Die Zuschauer amüsieren sich jedenfalls prächtig über Berti‘s grandioses Scheitern als wirklich allerletzter der feurigen Liebhaber. \nIn der Inszenierung von Sissy Boran und Andrea Eckstein glänzen auch Andrea Spatzek\, Doris Richter-Bieber und Natascha Shalaby in aberwitzigen Dialogen und geballter Situationskomik. \nPremiere:\nDienstag\, 19. November 2024\, 20 Uhr \nVorstellungen:\nbis 1. Februar 2025\, Dienstag bis Samstag um 20 Uhr\nsowie Sonntag\, 17. November\, 29. Dezember 2024 und 19. Jänner 2025 um 16 Uhr \nInfo:\nTel. +43 1 533 24 34 \nBild: Andrea Spatzek\, Rochus Millauer\, Doris Richter-Bieber und Natascha Shalaby in »Der letzte der feurigen Liebhaber«\, Foto/© Komödie am Kai \n
URL:https://www.strawanzerin.at/termin/der-letzte-der-feurigen-liebhaber-in-der-komoedie-am-kai/
LOCATION:Komödie am Kai\, Franz-Josefs-Kai 29\, Wien\, Wien\, 1010\, Österreich
CATEGORIES:ab 7,Theater/Kabarett,Wien
ATTACH;FMTTYPE=image/jpeg:https://www.strawanzerin.at/wp-content/uploads/2024/10/KomKai_LetzteFeurigeLiebhaber.jpg
GEO:48.2121522;16.3749182
X-APPLE-STRUCTURED-LOCATION;VALUE=URI;X-ADDRESS=Komödie am Kai Franz-Josefs-Kai 29 Wien Wien 1010 Österreich;X-APPLE-RADIUS=500;X-TITLE=Franz-Josefs-Kai 29:geo:16.3749182,48.2121522
END:VEVENT
END:VCALENDAR