BEGIN:VCALENDAR
VERSION:2.0
PRODID:-//STRAWANZERIN - ECPv4.9.5//NONSGML v1.0//EN
CALSCALE:GREGORIAN
METHOD:PUBLISH
X-WR-CALNAME:STRAWANZERIN
X-ORIGINAL-URL:https://www.strawanzerin.at
X-WR-CALDESC:Veranstaltungen im STRAWANZERIN
BEGIN:VTIMEZONE
TZID:"Europe/Vienna"
BEGIN:DAYLIGHT
TZOFFSETFROM:+0100
TZOFFSETTO:+0200
TZNAME:CEST
DTSTART:20250330T010000
END:DAYLIGHT
BEGIN:STANDARD
TZOFFSETFROM:+0200
TZOFFSETTO:+0100
TZNAME:CET
DTSTART:20251026T010000
END:STANDARD
END:VTIMEZONE
BEGIN:VEVENT
DTSTART;TZID="Europe/Vienna":20250213T200000
DTEND;TZID="Europe/Vienna":20250213T220000
DTSTAMP:20260422T061750
CREATED:20250123T071731Z
LAST-MODIFIED:20250123T071731Z
UID:105595-1739476800-1739484000@www.strawanzerin.at
SUMMARY:Der Nebel von Dybern / Maria Lazar Wiederaufnahme / Eigenproduktion
DESCRIPTION:In und um Dybern herum breitet sich dichter Nebel aus. Zunächst am Fluss\, dann auf der Weide. Als der Wind sich dreht\, erreicht er das Wirtshaus am Rande und nähert sich schließlich auch der Stadt. Der Nebel sei giftig\, sagt man\, tödlich für Mensch und Tier\, krank werde man davon. \nUnter den Bewohner*innen der Stadt kommen Zweifel auf\, ob es sich bei dem gelben\, nach Senf riechenden Nebel um ein natur- oder gottgegebenes Unglück handelt. Die kritischen Fragen werden lauter und schließlich kommt ein gewagtes Gerücht in Umlauf: Das Gift im Nebel sei keine Strafe Gottes\, sondern stamme aus der Chemiefabrik. \nSämtliche Vertreter der Fabrik sowie die von ihnen eingesetzten Kommissionen aus Ärzten und Chemikern bestehen darauf\, dass die Fabrik keinesfalls Ursache des Nebels sei. Aber warum\, so fragen sich die kritischen Stimmen leise\, wurde in der Stadt ein unterirdisches Kino\, einem Bunker gleich\, mit 700 Plätzen und einem für 14 Tage ausreichenden Sauerstoffdepot erbaut\, wenn es doch angeblich nie etwas zu befürchten gab? \nWenn ein Gerücht nicht wahr ist\, sperrt man die Leute nicht ein.\nWenn ein Gerücht nicht wahr ist\, braucht man kein Militär. \nMaria Lazars 1931 geschriebenes Stück stellt Fragen über Verantwortung und Täterschaft in Bezug auf menschengemachte Katastrophen. Giftgas wurde nach dem militärischen Einsatz im Ersten Weltkrieg für viele zum Symbol der Weltvernichtung. Wirtschaftliche und politische Instabilität schürten weitere Ängste. \nDer Nebel von Dybern thematisiert\, wie Entscheidungsträger*innen sich ihrer Verantwortung entziehen\, sich zum Teil der weitreichenden Konsequenzen ihres Handelns nicht einmal bewusst sind oder sein wollen. Menschenleben stehen dabei auf dem Spiel\, sowie auch demokratische Werte und die Erhaltung der Umwelt\, unseres Lebensraums. \nDas Stück widmet sich verschiedenen Formen des Widerstands gegen ein Machtsystem\, das gegen das Wohl von vielen und auf das Wohl von wenigen hin ausgerichtet ist. Diese Formen des Widerstands\, den die Figuren wählen\, reichen von versuchter Aufklärung durch freie Rede\, über die Weigerung\, Täter*innen und Mitläufer*innen zu unterstützen bis hin zu Sabotage und gezielten Angriffen auf kritische Infrastruktur. \nEs ist sehr einfach\, es gut zu meinen. Darauf kommts nicht an.\nAuf was denn sonst?\nMan muss das Richtige tun. \nIn dem fast 100 Jahre alten Text schwingt auf erstaunlich vielen Ebenen eine große aktuelle Resonanz mit. Auch die drängende Frage der Protagonistin Ist es moralisch vertretbar in eine Welt\, die diese Formen angenommen hat\, ein Kind zu setzen? scheint heute viele jüngere Menschen angesichts des Klimawandels und weltweiter besorgniserregender politischer Entwicklungen mehr und mehr zu beschäftigen. \nWiederaufnahme: 13. Februar 2025\, 20.00 Uhr \nWeitere Vorstellungen am 15.\, 19.\, 20.\, 21. und 22. Februar 2025\, jeweils 20.00 Uhr \nhttps://www.hamakom.at/nebelvondybern2025 \n
URL:https://www.strawanzerin.at/termin/der-nebel-von-dybern-maria-lazar-wiederaufnahme-eigenproduktion/
LOCATION:Theater Nestroyhof / Hamakom\, Nestroypl. 1\, Wien\, Wien\, 1020\, Österreich
ATTACH;FMTTYPE=image/jpeg:https://www.strawanzerin.at/wp-content/uploads/2025/01/2023_09_25HAMAKOM_DYBERN_HP2_MAR1582_WEB-scaled.jpeg
END:VEVENT
END:VCALENDAR