BEGIN:VCALENDAR
VERSION:2.0
PRODID:-//STRAWANZERIN - ECPv4.9.5//NONSGML v1.0//EN
CALSCALE:GREGORIAN
METHOD:PUBLISH
X-WR-CALNAME:STRAWANZERIN
X-ORIGINAL-URL:https://www.strawanzerin.at
X-WR-CALDESC:Veranstaltungen im STRAWANZERIN
BEGIN:VTIMEZONE
TZID:"Europe/Helsinki"
BEGIN:DAYLIGHT
TZOFFSETFROM:+0200
TZOFFSETTO:+0300
TZNAME:EEST
DTSTART:20140330T010000
END:DAYLIGHT
BEGIN:STANDARD
TZOFFSETFROM:+0300
TZOFFSETTO:+0200
TZNAME:EET
DTSTART:20141026T010000
END:STANDARD
END:VTIMEZONE
BEGIN:VEVENT
DTSTART;TZID="Europe/Helsinki":20141015T190000
DTEND;TZID="Europe/Helsinki":20141015T210000
DTSTAMP:20260423T181635
CREATED:20141006T115759Z
LAST-MODIFIED:20141010T085054Z
UID:7784-1413399600-1413406800@www.strawanzerin.at
SUMMARY:Der Piketty-Hype\, die Große U-Kurve und die Linke. Einkommensverteilung in Österreich und der westlichen Welt
DESCRIPTION:Diskussion über Ungleichheit von Einkommen\, von Vermögen und von Klassen.  \nAlbert F. Reiterer\, Sozialwissenschaftler (i.R.)\nHannes Hofbauer\, Verleger und Autor\nGerhard Kohlmaier\, Steuerinitiative im ÖGB \n
URL:https://www.strawanzerin.at/termin/der-piketty-hype-die-grosse-u-kurve-und-die-linke-einkommensverteilung-in-oesterreich-und-der-westlichen-welt/
CATEGORIES:Deutsch,Gratis,Soziale Kämpfe,Vortrag/Symposium,Wien
END:VEVENT
END:VCALENDAR