BEGIN:VCALENDAR
VERSION:2.0
PRODID:-//STRAWANZERIN - ECPv4.9.5//NONSGML v1.0//EN
CALSCALE:GREGORIAN
METHOD:PUBLISH
X-WR-CALNAME:STRAWANZERIN
X-ORIGINAL-URL:https://www.strawanzerin.at
X-WR-CALDESC:Veranstaltungen im STRAWANZERIN
BEGIN:VTIMEZONE
TZID:"Europe/Helsinki"
BEGIN:DAYLIGHT
TZOFFSETFROM:+0200
TZOFFSETTO:+0300
TZNAME:EEST
DTSTART:20170326T010000
END:DAYLIGHT
BEGIN:STANDARD
TZOFFSETFROM:+0300
TZOFFSETTO:+0200
TZNAME:EET
DTSTART:20171029T010000
END:STANDARD
END:VTIMEZONE
BEGIN:VEVENT
DTSTART;TZID="Europe/Helsinki":20170220T190000
DTEND;TZID="Europe/Helsinki":20170220T203000
DTSTAMP:20260422T010120
CREATED:20170130T115546Z
LAST-MODIFIED:20170201T115753Z
UID:39504-1487617200-1487622600@www.strawanzerin.at
SUMMARY:Der Rest der Zeit - Verlag Wortreich präsentiert Debütroman aus Wien
DESCRIPTION:»Was würdest du tun mit dem Rest der Zeit\, wenn du nur mehr kurz zu leben hättest?« Und: »Können wir dies immer frei entscheiden?« Diese Fragen stellen sich im neuesten Roman von Bernadette Németh die Geschwister Tünde\, Melinda und Adam. Privat und beruflich ständig auf der Suche\, scheinen sie einem Muster zu folgen\, dem sie nicht entfliehen können… Voll sprühender erzählerischer Kraft entspinnt die Autorin diese Familiengeschichte am Krankenbett von Tünde\, einer Ärztin\, die selbst zur Patientin wird. Am Montag\, 20. Februar\, 19 Uhr\, lädt der Verlag Wortreich zur Lesung mit der Autorin in die Buchhandlung Thalia in Mariahilf. Der Eintritt ist frei. \nBild: Die in Wien beheimatete Autorin Bernadette Németh\, Foto/© Sabine Klimpt \n
URL:https://www.strawanzerin.at/termin/der-rest-der-zeit-verlag-wortreich-praesentiert-debuetroman-aus-wien/
LOCATION:Thalia\, Mariahilferstraße 99\, Wien\, Wien\, 1060\, Österreich
CATEGORIES:Deutsch,Gratis,Literatur,Wien
ATTACH;FMTTYPE=image/jpeg:https://www.strawanzerin.at/wp-content/uploads/2017/01/BernadetteNémeth-Kopie.jpg
GEO:48.1967429;16.3460772
X-APPLE-STRUCTURED-LOCATION;VALUE=URI;X-ADDRESS=Thalia Mariahilferstraße 99 Wien Wien 1060 Österreich;X-APPLE-RADIUS=500;X-TITLE=Mariahilferstraße 99:geo:16.3460772,48.1967429
END:VEVENT
END:VCALENDAR