BEGIN:VCALENDAR
VERSION:2.0
PRODID:-//STRAWANZERIN - ECPv4.9.5//NONSGML v1.0//EN
CALSCALE:GREGORIAN
METHOD:PUBLISH
X-WR-CALNAME:STRAWANZERIN
X-ORIGINAL-URL:https://www.strawanzerin.at
X-WR-CALDESC:Veranstaltungen im STRAWANZERIN
BEGIN:VTIMEZONE
TZID:"Europe/Vienna"
BEGIN:DAYLIGHT
TZOFFSETFROM:+0100
TZOFFSETTO:+0200
TZNAME:CEST
DTSTART:20190331T010000
END:DAYLIGHT
BEGIN:STANDARD
TZOFFSETFROM:+0200
TZOFFSETTO:+0100
TZNAME:CET
DTSTART:20191027T010000
END:STANDARD
END:VTIMEZONE
BEGIN:VEVENT
DTSTART;TZID="Europe/Vienna":20190429T200000
DTEND;TZID="Europe/Vienna":20190429T220000
DTSTAMP:20260420T151254
CREATED:20190310T191844Z
LAST-MODIFIED:20190310T191901Z
UID:62707-1556568000-1556575200@www.strawanzerin.at
SUMMARY:Der Untergang des österreichischen Imperiums oder Die gereizte Republik
DESCRIPTION:Uraufführung\nVon Ed. Hauswirth und dem Ensemble\nSehr frei nach „Il Decamerone“ von Giovanni Boccaccio\nEine Koproduktion mit Theater im Bahnhof Graz \nVORSTELLUNGEN\nMO 29. UND DI 30. APRIL 2019\, 20.00 \n„In der augenblicklichen Demokratie geht es um inszenierte Politik und die Medien bieten das Theater dafür.“ \nDie mondäne Villa eines Verlegers am Semmering. Eine Gruppe von publizierenden Menschen aus der Öffentlichkeit trifft sich hier traditionell einmal im Jahr für ein Wochenende der freundschaftlichen Auseinandersetzung. \nDoch dieses Jahr liegt Spannung in der Luft. Eine Atmosphäre der Auflösung greift im Land um sich\, die sich auch auf den eigenen Berufsstand auswirkt und das bisherige Selbstverständnis angreift. Überfordert steht man vor dem Befund\, dass die bekannten und gut eingeübten Diskurse gegenwärtig an den Rand gedrängt werden und das Regulativ der Vierten Gewalt im Staat ins Schwanken gerät. \nDennoch redet man hauptsächlich über Essen\, Sex und Befindlichkeiten. Normalität wird simuliert\, oberflächlich soll wenigstens hier am Semmering alles so bleiben\, wie es ist – auch wenn gar nicht weit entfernt die Demokratie auf dem Spiel steht. Bis die ideologischen Gegensätze untereinander immer offener werden und der Albtraum beginnt … \nEd. Hauswirth\, der mit dem TAG 2014 den Nestroy-Preis für DER DISKRETE CHARME DER SMARTEN MENSCHEN erhalten hat\, liefert erneut einen brisanten und pointierten Abend zu den großen gesellschaftlichen Umbrüchen in unserer Gegenwart. Ein etwas anderes 100-Jahr-Jubiläum der Republik. \nTAG\nTheater an der Gumpendorfer Straße\nGumpendorfer Straße 67\n1060 Wien \nTel: +43 / 1 / 586 52 22\nFax: +43 / 1 / 587 36 72 11\nmail@dasTAG.at \n
URL:https://www.strawanzerin.at/termin/der-untergang-des-oesterreichischen-imperiums-oder-die-gereizte-republik-2/2019-04-29/
LOCATION:TAG – Theater an der Gumpendorfer Straße\, Gumpendorfer Straße 67\, Wien\, Wien\, 1060\, Österreich
CATEGORIES:ab 7,Barrierefrei,Deutsch,Kunst/Kultur,Theater/Kabarett,Wien
ATTACH;FMTTYPE=image/jpeg:https://www.strawanzerin.at/wp-content/uploads/2019/03/DerUntergangDesOesterrImperiums_c_AnnaStoecher_6111.jpg
ORGANIZER;CN="TAG%20-%20Theater%20an%20der%20Gumpendorfer%20Stra%C3%9Fe":MAILTO:karten@dastag.at
GEO:48.1954875;16.3512933
X-APPLE-STRUCTURED-LOCATION;VALUE=URI;X-ADDRESS=TAG – Theater an der Gumpendorfer Straße Gumpendorfer Straße 67 Wien Wien 1060 Österreich;X-APPLE-RADIUS=500;X-TITLE=Gumpendorfer Straße 67:geo:16.3512933,48.1954875
END:VEVENT
END:VCALENDAR