BEGIN:VCALENDAR
VERSION:2.0
PRODID:-//STRAWANZERIN - ECPv4.9.5//NONSGML v1.0//EN
CALSCALE:GREGORIAN
METHOD:PUBLISH
X-WR-CALNAME:STRAWANZERIN
X-ORIGINAL-URL:https://www.strawanzerin.at
X-WR-CALDESC:Veranstaltungen im STRAWANZERIN
BEGIN:VTIMEZONE
TZID:"Europe/Vienna"
BEGIN:DAYLIGHT
TZOFFSETFROM:+0100
TZOFFSETTO:+0200
TZNAME:CEST
DTSTART:20180325T010000
END:DAYLIGHT
BEGIN:STANDARD
TZOFFSETFROM:+0200
TZOFFSETTO:+0100
TZNAME:CET
DTSTART:20181028T010000
END:STANDARD
END:VTIMEZONE
BEGIN:VEVENT
DTSTART;TZID="Europe/Vienna":20181115T200000
DTEND;TZID="Europe/Vienna":20181115T220000
DTSTAMP:20260422T041547
CREATED:20181007T110146Z
LAST-MODIFIED:20181007T110146Z
UID:59086-1542312000-1542319200@www.strawanzerin.at
SUMMARY:DER UNTERGANG DES ÖSTERREICHISCHEN IMPERIUMS oder Die gereizte Republik
DESCRIPTION:„Ich komme überraschenderweise gut an\, wenn man eine Kamera auf mich hält.“ \nDie mondäne Villa eines Verlegers am Semmering. Acht Menschen aus der Öffentlichkeit – Intellektuelle\, JournalistInnen\, KommentatorInnen (Ähnlichkeiten mit lebenden Personen sind völlig zufällig) – haben sich an diesen Ort aus Anlass einer politischen Krise vor einer schleichenden\, von ihnen so empfundenen „Krankheit“ zurückgezogen und lecken an ihren Wunden. Fassungslos und gleichzeitig überrascht stehen sie vor dem Befund\, dass die bekannten und gut eingeübten Diskurse gegenwärtig an den Rand gedrängt werden und plötzlich die ideologische Gegenseite die öffentliche Hegemonie beansprucht. \nDennoch redet man hauptsächlich über Essen\, Sex und Entspannung. Was ist ein erfülltes Leben und was ein befriedigendes körperliches Sein? Normalität wird simuliert\, oberflächlich soll alles so bleiben\, wie es ist. Die Sorgen der Republik wirken unglaublich weit weg. Hier am Semmering steht die Zeit still\, obwohl gar nicht weit entfernt die Demokratie auf dem Spiel steht. \nDie politischen Haltungen liegen zwar mitunter auseinander\, jedoch genießt man seit Jahren schon gemeinsam die Treffen in der Verlegervilla. Man hat studiert\, man kennt sich aus. Die österreichische Innenpolitik kommentiert man ständig online\, die Geschichte der Republik gehört zum kleinen Einmaleins. Man hat alles über politische Theorie gelesen\, kennt die neuesten Ergebnisse der Hirnforschung\, im Grunde versteht man sich. Doch dieses Mal ist es unangenehm anders. Hätte man bloß das selbstgewählte Twitterverbot eingehalten… \nEin brisanter und äußerst witziger Abend zu den großen gesellschaftlichen Umbrüchen in unserer Gegenwart. Ein etwas anderes Republiks-Jubiläum. \nES SPIELEN Beatrix Brunschko\, Jens Claßen\, Juliette Eröd\, Lorenz Kabas\, Monika Klengel\, Raphael Nicholas\, Georg Schubert\, Lisa Schrammel \nREGIE Ed. Hauswirth\nTEXT Ed. Hauswirth und Ensemble\nAUSSTATTUNG Johanna Hierzegger\nDRAMATURGIETina Clausen/Isabelle Uhl\nREGIEASSISTENZ Renate Vavera\nKAMERA Gregor Graschitz \n
URL:https://www.strawanzerin.at/termin/der-untergang-des-oesterreichischen-imperiums-oder-die-gereizte-republik/2018-11-15/
LOCATION:TAG – Theater an der Gumpendorfer Straße\, Gumpendorfer Straße 67\, Wien\, Wien\, 1060\, Österreich
ATTACH;FMTTYPE=image/jpeg:https://www.strawanzerin.at/wp-content/uploads/2018/09/KLEIN_DerUntergangdesoesterrImperiums_c_GregorGraschitz.jpg
ORGANIZER;CN="TAG%20-%20Theater%20an%20der%20Gumpendorfer%20Stra%C3%9Fe":MAILTO:karten@dastag.at
GEO:48.1954875;16.3512933
X-APPLE-STRUCTURED-LOCATION;VALUE=URI;X-ADDRESS=TAG – Theater an der Gumpendorfer Straße Gumpendorfer Straße 67 Wien Wien 1060 Österreich;X-APPLE-RADIUS=500;X-TITLE=Gumpendorfer Straße 67:geo:16.3512933,48.1954875
END:VEVENT
END:VCALENDAR