BEGIN:VCALENDAR
VERSION:2.0
PRODID:-//STRAWANZERIN - ECPv4.9.5//NONSGML v1.0//EN
CALSCALE:GREGORIAN
METHOD:PUBLISH
X-WR-CALNAME:STRAWANZERIN
X-ORIGINAL-URL:https://www.strawanzerin.at
X-WR-CALDESC:Veranstaltungen im STRAWANZERIN
BEGIN:VTIMEZONE
TZID:"Europe/Vienna"
BEGIN:DAYLIGHT
TZOFFSETFROM:+0100
TZOFFSETTO:+0200
TZNAME:CEST
DTSTART:20230326T010000
END:DAYLIGHT
BEGIN:STANDARD
TZOFFSETFROM:+0200
TZOFFSETTO:+0100
TZNAME:CET
DTSTART:20231029T010000
END:STANDARD
END:VTIMEZONE
BEGIN:VEVENT
DTSTART;TZID="Europe/Vienna":20230506T180000
DTEND;TZID="Europe/Vienna":20230506T193000
DTSTAMP:20260419T134345
CREATED:20230419T112838Z
LAST-MODIFIED:20230419T112838Z
UID:90906-1683396000-1683401400@www.strawanzerin.at
SUMMARY:Der Zauberer von Oz - ein Jukeboxmusical
DESCRIPTION:Der Zauberer von Oz \nDurch einen Wirbelsturm landet die kleine Dorothy in Oz\, das magische Land hinter dem Regenbogen. Sie macht sich sich auf den Weg in die grüne Smaragdstadt wo der große Zauberer von Oz lebt\, denn nur er kann ihre Rückkehr nach Hause ermöglichen. Unterwegs findet Dorothy neue Freunde; eine Vogelscheuche\, der ein Hirn fehlt\, Frau Blechfrau\, die gerne ein Herz hätte und eine ängstliche Löwin\, die unbedingt mutiger sein möchte. \nDer Weg dorthin wird zu einer Reise voller Gefahren und Abenteuer\, denn auch die böse Hexe hat es auf die vier abgesehen. \nDie Kult-Geschichte von Lyman Frank Baum über Ängste und Mut\, Wünsche und Träume\, über die Kraft der Freundschaft und dem Glauben an sich selbst – in einer zauberhaften Jukebox-Version von Isabel Meili. \nBuch und Regie: Isabel Meili\nMusikalische Einstudierung: Alba Cruz Batista\nChoreografie: Tamara Nussbaumer und Isabel Meili \nDer Verein Superar bietet kostenlosen\, hochwertigen Zugang zur Musik und kulturellem Austausch durch Gesang-\, Musical- und Instrumentalunterricht. Das gemeinsame Musizieren stärkt die Persönlichkeit\, sowie soziale und interkulturelle Kompetenzen. \n
URL:https://www.strawanzerin.at/termin/der-zauberer-von-oz-ein-jukeboxmusical/2023-05-06/
LOCATION:Anker.Saal\, Kulturhaus Brotfabrik\, Absberggasse 27/Stiege 3\, Wien\, Wien\, 1100\, Österreich
CATEGORIES:Musik,Theater/Kabarett
ATTACH;FMTTYPE=image/jpeg:https://www.strawanzerin.at/wp-content/uploads/2023/04/Zauberer-von-Oz-scaled.jpg
ORGANIZER;CN="Superar%20-%20Verein%20zur%20F%C3%B6derung%20der%20Musik":MAILTO:office@superar.eu
END:VEVENT
END:VCALENDAR